BEGIN:VCALENDAR
VERSION:2.0
PRODID:-//Pingst Jönköping - ECPv6.15.20//NONSGML v1.0//EN
CALSCALE:GREGORIAN
METHOD:PUBLISH
X-WR-CALNAME:Pingst Jönköping
X-ORIGINAL-URL:https://pingstjonkoping.se
X-WR-CALDESC:Händelser för Pingst Jönköping
REFRESH-INTERVAL;VALUE=DURATION:PT1H
X-Robots-Tag:noindex
X-PUBLISHED-TTL:PT1H
BEGIN:VTIMEZONE
TZID:Europe/Stockholm
BEGIN:DAYLIGHT
TZOFFSETFROM:+0100
TZOFFSETTO:+0200
TZNAME:CEST
DTSTART:20250330T010000
END:DAYLIGHT
BEGIN:STANDARD
TZOFFSETFROM:+0200
TZOFFSETTO:+0100
TZNAME:CET
DTSTART:20251026T010000
END:STANDARD
BEGIN:DAYLIGHT
TZOFFSETFROM:+0100
TZOFFSETTO:+0200
TZNAME:CEST
DTSTART:20260329T010000
END:DAYLIGHT
BEGIN:STANDARD
TZOFFSETFROM:+0200
TZOFFSETTO:+0100
TZNAME:CET
DTSTART:20261025T010000
END:STANDARD
BEGIN:DAYLIGHT
TZOFFSETFROM:+0100
TZOFFSETTO:+0200
TZNAME:CEST
DTSTART:20270328T010000
END:DAYLIGHT
BEGIN:STANDARD
TZOFFSETFROM:+0200
TZOFFSETTO:+0100
TZNAME:CET
DTSTART:20271031T010000
END:STANDARD
END:VTIMEZONE
BEGIN:VEVENT
DTSTART;TZID=Europe/Stockholm:20260414T110000
DTEND;TZID=Europe/Stockholm:20260414T120000
DTSTAMP:20260425T154737
CREATED:20251216T140049Z
LAST-MODIFIED:20251216T140049Z
UID:10010132-1776164400-1776168000@pingstjonkoping.se
SUMMARY:Bön
DESCRIPTION:
URL:https://pingstjonkoping.se/kalender/bon-3/2026-04-14/
LOCATION:Pingstkyrkan\, Jönköping\, Västra torget\, Lagermansgatan 1\, Jönköping\, Sverige
CATEGORIES:Bön
GEO:57.7819831;14.1553961
X-APPLE-STRUCTURED-LOCATION;VALUE=URI;X-ADDRESS=Pingstkyrkan Jönköping Västra torget Lagermansgatan 1 Jönköping Sverige;X-APPLE-RADIUS=500;X-TITLE=Västra torget\, Lagermansgatan 1:geo:14.1553961,57.7819831
END:VEVENT
BEGIN:VEVENT
DTSTART;TZID=Europe/Stockholm:20260414T190000
DTEND;TZID=Europe/Stockholm:20260414T203000
DTSTAMP:20260425T154737
CREATED:20251216T142510Z
LAST-MODIFIED:20260121T103335Z
UID:10010630-1776193200-1776198600@pingstjonkoping.se
SUMMARY:Unga vuxna
DESCRIPTION:
URL:https://pingstjonkoping.se/kalender/unga-vuxna/2026-04-14/
LOCATION:Pingstkyrkan\, Jönköping\, Västra torget\, Lagermansgatan 1\, Jönköping\, Sverige
GEO:57.7819831;14.1553961
X-APPLE-STRUCTURED-LOCATION;VALUE=URI;X-ADDRESS=Pingstkyrkan Jönköping Västra torget Lagermansgatan 1 Jönköping Sverige;X-APPLE-RADIUS=500;X-TITLE=Västra torget\, Lagermansgatan 1:geo:14.1553961,57.7819831
END:VEVENT
BEGIN:VEVENT
DTSTART;TZID=Europe/Stockholm:20260415T100000
DTEND;TZID=Europe/Stockholm:20260415T120000
DTSTAMP:20260425T154737
CREATED:20251216T142734Z
LAST-MODIFIED:20260121T103339Z
UID:10010646-1776247200-1776254400@pingstjonkoping.se
SUMMARY:Kvinna
DESCRIPTION:gemenskap och skapande
URL:https://pingstjonkoping.se/kalender/kvinna/2026-04-15/
LOCATION:Pingstkyrkan\, Jönköping\, Västra torget\, Lagermansgatan 1\, Jönköping\, Sverige
CATEGORIES:Kvinnor
GEO:57.7819831;14.1553961
X-APPLE-STRUCTURED-LOCATION;VALUE=URI;X-ADDRESS=Pingstkyrkan Jönköping Västra torget Lagermansgatan 1 Jönköping Sverige;X-APPLE-RADIUS=500;X-TITLE=Västra torget\, Lagermansgatan 1:geo:14.1553961,57.7819831
END:VEVENT
BEGIN:VEVENT
DTSTART;TZID=Europe/Stockholm:20260415T140000
DTEND;TZID=Europe/Stockholm:20260415T160000
DTSTAMP:20260425T154737
CREATED:20260123T145212Z
LAST-MODIFIED:20260123T145212Z
UID:10010752-1776261600-1776268800@pingstjonkoping.se
SUMMARY:Torget 60+/RPG
DESCRIPTION:Tabergsbröderna
URL:https://pingstjonkoping.se/kalender/torget-60-rpg-3/
LOCATION:Pingstkyrkan\, Jönköping\, Västra torget\, Lagermansgatan 1\, Jönköping\, Sverige
CATEGORIES:Senior
GEO:57.7819831;14.1553961
X-APPLE-STRUCTURED-LOCATION;VALUE=URI;X-ADDRESS=Pingstkyrkan Jönköping Västra torget Lagermansgatan 1 Jönköping Sverige;X-APPLE-RADIUS=500;X-TITLE=Västra torget\, Lagermansgatan 1:geo:14.1553961,57.7819831
END:VEVENT
BEGIN:VEVENT
DTSTART;TZID=Europe/Stockholm:20260416T100000
DTEND;TZID=Europe/Stockholm:20260416T120000
DTSTAMP:20260425T154737
CREATED:20251216T143026Z
LAST-MODIFIED:20260123T150412Z
UID:10010669-1776333600-1776340800@pingstjonkoping.se
SUMMARY:Öppna förskolan
DESCRIPTION:
URL:https://pingstjonkoping.se/kalender/oppna-forskolan/2026-04-16/
LOCATION:Pingstkyrkan\, Jönköping\, Västra torget\, Lagermansgatan 1\, Jönköping\, Sverige
CATEGORIES:Barn
GEO:57.7819831;14.1553961
X-APPLE-STRUCTURED-LOCATION;VALUE=URI;X-ADDRESS=Pingstkyrkan Jönköping Västra torget Lagermansgatan 1 Jönköping Sverige;X-APPLE-RADIUS=500;X-TITLE=Västra torget\, Lagermansgatan 1:geo:14.1553961,57.7819831
END:VEVENT
BEGIN:VEVENT
DTSTART;TZID=Europe/Stockholm:20260416T170000
DTEND;TZID=Europe/Stockholm:20260416T183000
DTSTAMP:20260425T154737
CREATED:20251216T143928Z
LAST-MODIFIED:20260422T143815Z
UID:10010687-1776358800-1776364200@pingstjonkoping.se
SUMMARY:Café hela världen
DESCRIPTION:gemenskap och fika
URL:https://pingstjonkoping.se/kalender/cafe-hela-varlden/2026-04-16/
LOCATION:Pingstkyrkan\, Jönköping\, Västra torget\, Lagermansgatan 1\, Jönköping\, Sverige
GEO:57.7819831;14.1553961
X-APPLE-STRUCTURED-LOCATION;VALUE=URI;X-ADDRESS=Pingstkyrkan Jönköping Västra torget Lagermansgatan 1 Jönköping Sverige;X-APPLE-RADIUS=500;X-TITLE=Västra torget\, Lagermansgatan 1:geo:14.1553961,57.7819831
END:VEVENT
BEGIN:VEVENT
DTSTART;TZID=Europe/Stockholm:20260416T183000
DTEND;TZID=Europe/Stockholm:20260416T193000
DTSTAMP:20260425T154737
CREATED:20250226T155654Z
LAST-MODIFIED:20260422T144414Z
UID:10009766-1776364200-1776367800@pingstjonkoping.se
SUMMARY:Bön/ Bibelläsning
DESCRIPTION:
URL:https://pingstjonkoping.se/kalender/bon-8/2026-04-16/
LOCATION:Pingstkyrkan\, Jönköping\, Västra torget\, Lagermansgatan 1\, Jönköping\, Sverige
CATEGORIES:Bön
GEO:57.7819831;14.1553961
X-APPLE-STRUCTURED-LOCATION;VALUE=URI;X-ADDRESS=Pingstkyrkan Jönköping Västra torget Lagermansgatan 1 Jönköping Sverige;X-APPLE-RADIUS=500;X-TITLE=Västra torget\, Lagermansgatan 1:geo:14.1553961,57.7819831
END:VEVENT
BEGIN:VEVENT
DTSTART;TZID=Europe/Stockholm:20260417T120000
DTEND;TZID=Europe/Stockholm:20260417T150000
DTSTAMP:20260425T154737
CREATED:20251216T140320Z
LAST-MODIFIED:20260213T092931Z
UID:10010154-1776427200-1776438000@pingstjonkoping.se
SUMMARY:Hänggänget (LPhäng)
DESCRIPTION:Kom och dela livet tillsammans. \nTa med lunch – Vi börjar med att äta ihop.
URL:https://pingstjonkoping.se/kalender/hangganget-lphang/2026-04-17/
LOCATION:Pingstkyrkan\, Jönköping\, Västra torget\, Lagermansgatan 1\, Jönköping\, Sverige
GEO:57.7819831;14.1553961
X-APPLE-STRUCTURED-LOCATION;VALUE=URI;X-ADDRESS=Pingstkyrkan Jönköping Västra torget Lagermansgatan 1 Jönköping Sverige;X-APPLE-RADIUS=500;X-TITLE=Västra torget\, Lagermansgatan 1:geo:14.1553961,57.7819831
END:VEVENT
BEGIN:VEVENT
DTSTART;TZID=Europe/Stockholm:20260417T180000
DTEND;TZID=Europe/Stockholm:20260417T193000
DTSTAMP:20260425T154737
CREATED:20251216T142419Z
LAST-MODIFIED:20260217T094544Z
UID:10010616-1776448800-1776454200@pingstjonkoping.se
SUMMARY:Hänget
DESCRIPTION:för dig i årsk 4-6
URL:https://pingstjonkoping.se/kalender/hanget-4/2026-04-17/
LOCATION:Pingstkyrkan\, Jönköping\, Västra torget\, Lagermansgatan 1\, Jönköping\, Sverige
CATEGORIES:Barn
GEO:57.7819831;14.1553961
X-APPLE-STRUCTURED-LOCATION;VALUE=URI;X-ADDRESS=Pingstkyrkan Jönköping Västra torget Lagermansgatan 1 Jönköping Sverige;X-APPLE-RADIUS=500;X-TITLE=Västra torget\, Lagermansgatan 1:geo:14.1553961,57.7819831
END:VEVENT
BEGIN:VEVENT
DTSTART;TZID=Europe/Stockholm:20260417T180000
DTEND;TZID=Europe/Stockholm:20260417T193000
DTSTAMP:20260425T154737
CREATED:20260120T125415Z
LAST-MODIFIED:20260120T125415Z
UID:10010726-1776448800-1776454200@pingstjonkoping.se
SUMMARY:Lågstadiehäng
DESCRIPTION:för barn i förskoleklass-åk 3
URL:https://pingstjonkoping.se/kalender/lagstadiehang/2026-04-17/
LOCATION:Pingstkyrkan\, Jönköping\, Västra torget\, Lagermansgatan 1\, Jönköping\, Sverige
CATEGORIES:Barn
GEO:57.7819831;14.1553961
X-APPLE-STRUCTURED-LOCATION;VALUE=URI;X-ADDRESS=Pingstkyrkan Jönköping Västra torget Lagermansgatan 1 Jönköping Sverige;X-APPLE-RADIUS=500;X-TITLE=Västra torget\, Lagermansgatan 1:geo:14.1553961,57.7819831
END:VEVENT
BEGIN:VEVENT
DTSTART;TZID=Europe/Stockholm:20260417T193000
DTEND;TZID=Europe/Stockholm:20260417T233000
DTSTAMP:20260425T154737
CREATED:20251216T142159Z
LAST-MODIFIED:20260213T093209Z
UID:10010597-1776454200-1776468600@pingstjonkoping.se
SUMMARY:ONE
DESCRIPTION:för ungdomar 13+
URL:https://pingstjonkoping.se/kalender/one/2026-04-17/
LOCATION:Pingstkyrkan\, Jönköping\, Västra torget\, Lagermansgatan 1\, Jönköping\, Sverige
CATEGORIES:Ungdom
GEO:57.7819831;14.1553961
X-APPLE-STRUCTURED-LOCATION;VALUE=URI;X-ADDRESS=Pingstkyrkan Jönköping Västra torget Lagermansgatan 1 Jönköping Sverige;X-APPLE-RADIUS=500;X-TITLE=Västra torget\, Lagermansgatan 1:geo:14.1553961,57.7819831
END:VEVENT
BEGIN:VEVENT
DTSTART;TZID=Europe/Stockholm:20260419T103000
DTEND;TZID=Europe/Stockholm:20260419T120000
DTSTAMP:20260425T154737
CREATED:20260123T145237Z
LAST-MODIFIED:20260123T145237Z
UID:10010753-1776594600-1776600000@pingstjonkoping.se
SUMMARY:Gudstjänst
DESCRIPTION:Söndagsklubben. Tema: Hoppet om att han kommer tillbaka (del 2). Medverkande: Niclas Collen. IBRA 70år.
URL:https://pingstjonkoping.se/kalender/gudstjanst-11/
LOCATION:Pingstkyrkan\, Jönköping\, Västra torget\, Lagermansgatan 1\, Jönköping\, Sverige
GEO:57.7819831;14.1553961
X-APPLE-STRUCTURED-LOCATION;VALUE=URI;X-ADDRESS=Pingstkyrkan Jönköping Västra torget Lagermansgatan 1 Jönköping Sverige;X-APPLE-RADIUS=500;X-TITLE=Västra torget\, Lagermansgatan 1:geo:14.1553961,57.7819831
END:VEVENT
BEGIN:VEVENT
DTSTART;TZID=Europe/Stockholm:20260419T180000
DTEND;TZID=Europe/Stockholm:20260419T193000
DTSTAMP:20260425T154737
CREATED:20260224T151916Z
LAST-MODIFIED:20260224T151916Z
UID:10010778-1776621600-1776627000@pingstjonkoping.se
SUMMARY:Till jordens yttersta gräns - Kvällssamling
DESCRIPTION:Till jordens yttersta gräns – en samling tillsammans med IBRA med fokus på och vittnesbörd från församlingens internationella misison och vårt gemensamma uppdrag i världen
URL:https://pingstjonkoping.se/kalender/till-jordens-yttersta-grans-kvallssamling/
LOCATION:Pingstkyrkan\, Jönköping\, Västra torget\, Lagermansgatan 1\, Jönköping\, Sverige
GEO:57.7819831;14.1553961
X-APPLE-STRUCTURED-LOCATION;VALUE=URI;X-ADDRESS=Pingstkyrkan Jönköping Västra torget Lagermansgatan 1 Jönköping Sverige;X-APPLE-RADIUS=500;X-TITLE=Västra torget\, Lagermansgatan 1:geo:14.1553961,57.7819831
END:VEVENT
END:VCALENDAR