BEGIN:VCALENDAR
VERSION:2.0
PRODID:-//Pingst Jönköping - ECPv6.15.20//NONSGML v1.0//EN
CALSCALE:GREGORIAN
METHOD:PUBLISH
X-ORIGINAL-URL:https://pingstjonkoping.se
X-WR-CALDESC:Händelser för Pingst Jönköping
REFRESH-INTERVAL;VALUE=DURATION:PT1H
X-Robots-Tag:noindex
X-PUBLISHED-TTL:PT1H
BEGIN:VTIMEZONE
TZID:Europe/Stockholm
BEGIN:DAYLIGHT
TZOFFSETFROM:+0100
TZOFFSETTO:+0200
TZNAME:CEST
DTSTART:20250330T010000
END:DAYLIGHT
BEGIN:STANDARD
TZOFFSETFROM:+0200
TZOFFSETTO:+0100
TZNAME:CET
DTSTART:20251026T010000
END:STANDARD
BEGIN:DAYLIGHT
TZOFFSETFROM:+0100
TZOFFSETTO:+0200
TZNAME:CEST
DTSTART:20260329T010000
END:DAYLIGHT
BEGIN:STANDARD
TZOFFSETFROM:+0200
TZOFFSETTO:+0100
TZNAME:CET
DTSTART:20261025T010000
END:STANDARD
BEGIN:DAYLIGHT
TZOFFSETFROM:+0100
TZOFFSETTO:+0200
TZNAME:CEST
DTSTART:20270328T010000
END:DAYLIGHT
BEGIN:STANDARD
TZOFFSETFROM:+0200
TZOFFSETTO:+0100
TZNAME:CET
DTSTART:20271031T010000
END:STANDARD
END:VTIMEZONE
BEGIN:VEVENT
DTSTART;TZID=Europe/Stockholm:20260407T110000
DTEND;TZID=Europe/Stockholm:20260407T120000
DTSTAMP:20260425T173601
CREATED:20251216T140049Z
LAST-MODIFIED:20251216T140049Z
UID:10010131-1775559600-1775563200@pingstjonkoping.se
SUMMARY:Bön
DESCRIPTION:
URL:https://pingstjonkoping.se/kalender/bon-3/2026-04-07/
LOCATION:Pingstkyrkan\, Jönköping\, Västra torget\, Lagermansgatan 1\, Jönköping\, Sverige
CATEGORIES:Bön
GEO:57.7819831;14.1553961
X-APPLE-STRUCTURED-LOCATION;VALUE=URI;X-ADDRESS=Pingstkyrkan Jönköping Västra torget Lagermansgatan 1 Jönköping Sverige;X-APPLE-RADIUS=500;X-TITLE=Västra torget\, Lagermansgatan 1:geo:14.1553961,57.7819831
END:VEVENT
BEGIN:VEVENT
DTSTART;TZID=Europe/Stockholm:20260408T100000
DTEND;TZID=Europe/Stockholm:20260408T120000
DTSTAMP:20260425T173601
CREATED:20251216T142734Z
LAST-MODIFIED:20260121T103339Z
UID:10010645-1775642400-1775649600@pingstjonkoping.se
SUMMARY:Kvinna
DESCRIPTION:gemenskap och skapande
URL:https://pingstjonkoping.se/kalender/kvinna/2026-04-08/
LOCATION:Pingstkyrkan\, Jönköping\, Västra torget\, Lagermansgatan 1\, Jönköping\, Sverige
CATEGORIES:Kvinnor
GEO:57.7819831;14.1553961
X-APPLE-STRUCTURED-LOCATION;VALUE=URI;X-ADDRESS=Pingstkyrkan Jönköping Västra torget Lagermansgatan 1 Jönköping Sverige;X-APPLE-RADIUS=500;X-TITLE=Västra torget\, Lagermansgatan 1:geo:14.1553961,57.7819831
END:VEVENT
BEGIN:VEVENT
DTSTART;TZID=Europe/Stockholm:20260408T103000
DTEND;TZID=Europe/Stockholm:20260408T113000
DTSTAMP:20260425T173601
CREATED:20251216T141713Z
LAST-MODIFIED:20251216T141713Z
UID:10010557-1775644200-1775647800@pingstjonkoping.se
SUMMARY:Träningsgrupp för äldre
DESCRIPTION:
URL:https://pingstjonkoping.se/kalender/traningsgrupp-for-aldre/2026-04-08/
LOCATION:Pingstkyrkan\, Jönköping\, Västra torget\, Lagermansgatan 1\, Jönköping\, Sverige
CATEGORIES:Senior
GEO:57.7819831;14.1553961
X-APPLE-STRUCTURED-LOCATION;VALUE=URI;X-ADDRESS=Pingstkyrkan Jönköping Västra torget Lagermansgatan 1 Jönköping Sverige;X-APPLE-RADIUS=500;X-TITLE=Västra torget\, Lagermansgatan 1:geo:14.1553961,57.7819831
END:VEVENT
BEGIN:VEVENT
DTSTART;TZID=Europe/Stockholm:20260409T100000
DTEND;TZID=Europe/Stockholm:20260409T120000
DTSTAMP:20260425T173601
CREATED:20251216T143026Z
LAST-MODIFIED:20260123T150412Z
UID:10010668-1775728800-1775736000@pingstjonkoping.se
SUMMARY:Öppna förskolan
DESCRIPTION:
URL:https://pingstjonkoping.se/kalender/oppna-forskolan/2026-04-09/
LOCATION:Pingstkyrkan\, Jönköping\, Västra torget\, Lagermansgatan 1\, Jönköping\, Sverige
CATEGORIES:Barn
GEO:57.7819831;14.1553961
X-APPLE-STRUCTURED-LOCATION;VALUE=URI;X-ADDRESS=Pingstkyrkan Jönköping Västra torget Lagermansgatan 1 Jönköping Sverige;X-APPLE-RADIUS=500;X-TITLE=Västra torget\, Lagermansgatan 1:geo:14.1553961,57.7819831
END:VEVENT
BEGIN:VEVENT
DTSTART;TZID=Europe/Stockholm:20260409T140000
DTEND;TZID=Europe/Stockholm:20260409T160000
DTSTAMP:20260425T173601
CREATED:20251216T141408Z
LAST-MODIFIED:20251216T141408Z
UID:10010547-1775743200-1775750400@pingstjonkoping.se
SUMMARY:Stickcafé
DESCRIPTION:vi stickar för missionen
URL:https://pingstjonkoping.se/kalender/stickcafe/2026-04-09/
LOCATION:Pingstkyrkan\, Jönköping\, Västra torget\, Lagermansgatan 1\, Jönköping\, Sverige
GEO:57.7819831;14.1553961
X-APPLE-STRUCTURED-LOCATION;VALUE=URI;X-ADDRESS=Pingstkyrkan Jönköping Västra torget Lagermansgatan 1 Jönköping Sverige;X-APPLE-RADIUS=500;X-TITLE=Västra torget\, Lagermansgatan 1:geo:14.1553961,57.7819831
END:VEVENT
BEGIN:VEVENT
DTSTART;TZID=Europe/Stockholm:20260409T170000
DTEND;TZID=Europe/Stockholm:20260409T183000
DTSTAMP:20260425T173601
CREATED:20251216T143928Z
LAST-MODIFIED:20260422T143815Z
UID:10010686-1775754000-1775759400@pingstjonkoping.se
SUMMARY:Café hela världen
DESCRIPTION:gemenskap och fika
URL:https://pingstjonkoping.se/kalender/cafe-hela-varlden/2026-04-09/
LOCATION:Pingstkyrkan\, Jönköping\, Västra torget\, Lagermansgatan 1\, Jönköping\, Sverige
GEO:57.7819831;14.1553961
X-APPLE-STRUCTURED-LOCATION;VALUE=URI;X-ADDRESS=Pingstkyrkan Jönköping Västra torget Lagermansgatan 1 Jönköping Sverige;X-APPLE-RADIUS=500;X-TITLE=Västra torget\, Lagermansgatan 1:geo:14.1553961,57.7819831
END:VEVENT
BEGIN:VEVENT
DTSTART;TZID=Europe/Stockholm:20260409T183000
DTEND;TZID=Europe/Stockholm:20260409T193000
DTSTAMP:20260425T173601
CREATED:20260310T152305Z
LAST-MODIFIED:20260310T152305Z
UID:10010784-1775759400-1775763000@pingstjonkoping.se
SUMMARY:Lovsångskväll
DESCRIPTION:
URL:https://pingstjonkoping.se/kalender/lovsangskvall/2026-04-09/
LOCATION:Pingstkyrkan\, Jönköping\, Västra torget\, Lagermansgatan 1\, Jönköping\, Sverige
GEO:57.7819831;14.1553961
X-APPLE-STRUCTURED-LOCATION;VALUE=URI;X-ADDRESS=Pingstkyrkan Jönköping Västra torget Lagermansgatan 1 Jönköping Sverige;X-APPLE-RADIUS=500;X-TITLE=Västra torget\, Lagermansgatan 1:geo:14.1553961,57.7819831
END:VEVENT
BEGIN:VEVENT
DTSTART;TZID=Europe/Stockholm:20260410T120000
DTEND;TZID=Europe/Stockholm:20260410T150000
DTSTAMP:20260425T173601
CREATED:20251216T140320Z
LAST-MODIFIED:20260213T092931Z
UID:10010153-1775822400-1775833200@pingstjonkoping.se
SUMMARY:Hänggänget (LPhäng)
DESCRIPTION:Kom och dela livet tillsammans. \nTa med lunch – Vi börjar med att äta ihop.
URL:https://pingstjonkoping.se/kalender/hangganget-lphang/2026-04-10/
LOCATION:Pingstkyrkan\, Jönköping\, Västra torget\, Lagermansgatan 1\, Jönköping\, Sverige
GEO:57.7819831;14.1553961
X-APPLE-STRUCTURED-LOCATION;VALUE=URI;X-ADDRESS=Pingstkyrkan Jönköping Västra torget Lagermansgatan 1 Jönköping Sverige;X-APPLE-RADIUS=500;X-TITLE=Västra torget\, Lagermansgatan 1:geo:14.1553961,57.7819831
END:VEVENT
BEGIN:VEVENT
DTSTART;TZID=Europe/Stockholm:20260411T100000
DTEND;TZID=Europe/Stockholm:20260411T120000
DTSTAMP:20260425T173601
CREATED:20260407T121303Z
LAST-MODIFIED:20260407T121303Z
UID:10010788-1775901600-1775908800@pingstjonkoping.se
SUMMARY:Unga vuxna brunch
DESCRIPTION:
URL:https://pingstjonkoping.se/kalender/unga-vuxna-brunch-2/
LOCATION:Pingstkyrkan\, Jönköping\, Västra torget\, Lagermansgatan 1\, Jönköping\, Sverige
GEO:57.7819831;14.1553961
X-APPLE-STRUCTURED-LOCATION;VALUE=URI;X-ADDRESS=Pingstkyrkan Jönköping Västra torget Lagermansgatan 1 Jönköping Sverige;X-APPLE-RADIUS=500;X-TITLE=Västra torget\, Lagermansgatan 1:geo:14.1553961,57.7819831
END:VEVENT
BEGIN:VEVENT
DTSTART;TZID=Europe/Stockholm:20260412T103000
DTEND;TZID=Europe/Stockholm:20260412T120000
DTSTAMP:20260425T173601
CREATED:20260123T145113Z
LAST-MODIFIED:20260327T131135Z
UID:10010751-1775989800-1775995200@pingstjonkoping.se
SUMMARY:Gudstjänst
DESCRIPTION:Predikotema: Hoppet om att han kommer tillbaka.\nNattvard & parentation. Söndagsklubben. \nPredikan: Chatrine Carlson
URL:https://pingstjonkoping.se/kalender/gudstjanst-10/
LOCATION:Pingstkyrkan\, Jönköping\, Västra torget\, Lagermansgatan 1\, Jönköping\, Sverige
GEO:57.7819831;14.1553961
X-APPLE-STRUCTURED-LOCATION;VALUE=URI;X-ADDRESS=Pingstkyrkan Jönköping Västra torget Lagermansgatan 1 Jönköping Sverige;X-APPLE-RADIUS=500;X-TITLE=Västra torget\, Lagermansgatan 1:geo:14.1553961,57.7819831
END:VEVENT
END:VCALENDAR