BEGIN:VCALENDAR
VERSION:2.0
PRODID:-//Pingst Jönköping - ECPv6.15.20//NONSGML v1.0//EN
CALSCALE:GREGORIAN
METHOD:PUBLISH
X-ORIGINAL-URL:https://pingstjonkoping.se
X-WR-CALDESC:Händelser för Pingst Jönköping
REFRESH-INTERVAL;VALUE=DURATION:PT1H
X-Robots-Tag:noindex
X-PUBLISHED-TTL:PT1H
BEGIN:VTIMEZONE
TZID:Europe/Stockholm
BEGIN:DAYLIGHT
TZOFFSETFROM:+0100
TZOFFSETTO:+0200
TZNAME:CEST
DTSTART:20250330T010000
END:DAYLIGHT
BEGIN:STANDARD
TZOFFSETFROM:+0200
TZOFFSETTO:+0100
TZNAME:CET
DTSTART:20251026T010000
END:STANDARD
BEGIN:DAYLIGHT
TZOFFSETFROM:+0100
TZOFFSETTO:+0200
TZNAME:CEST
DTSTART:20260329T010000
END:DAYLIGHT
BEGIN:STANDARD
TZOFFSETFROM:+0200
TZOFFSETTO:+0100
TZNAME:CET
DTSTART:20261025T010000
END:STANDARD
BEGIN:DAYLIGHT
TZOFFSETFROM:+0100
TZOFFSETTO:+0200
TZNAME:CEST
DTSTART:20270328T010000
END:DAYLIGHT
BEGIN:STANDARD
TZOFFSETFROM:+0200
TZOFFSETTO:+0100
TZNAME:CET
DTSTART:20271031T010000
END:STANDARD
END:VTIMEZONE
BEGIN:VEVENT
DTSTART;TZID=Europe/Stockholm:20260331T110000
DTEND;TZID=Europe/Stockholm:20260331T120000
DTSTAMP:20260425T184953
CREATED:20251216T140049Z
LAST-MODIFIED:20251216T140049Z
UID:10010130-1774954800-1774958400@pingstjonkoping.se
SUMMARY:Bön
DESCRIPTION:
URL:https://pingstjonkoping.se/kalender/bon-3/2026-03-31/
LOCATION:Pingstkyrkan\, Jönköping\, Västra torget\, Lagermansgatan 1\, Jönköping\, Sverige
CATEGORIES:Bön
GEO:57.7819831;14.1553961
X-APPLE-STRUCTURED-LOCATION;VALUE=URI;X-ADDRESS=Pingstkyrkan Jönköping Västra torget Lagermansgatan 1 Jönköping Sverige;X-APPLE-RADIUS=500;X-TITLE=Västra torget\, Lagermansgatan 1:geo:14.1553961,57.7819831
END:VEVENT
BEGIN:VEVENT
DTSTART;TZID=Europe/Stockholm:20260331T190000
DTEND;TZID=Europe/Stockholm:20260331T203000
DTSTAMP:20260425T184953
CREATED:20251216T142510Z
LAST-MODIFIED:20260121T103335Z
UID:10010629-1774983600-1774989000@pingstjonkoping.se
SUMMARY:Unga vuxna
DESCRIPTION:
URL:https://pingstjonkoping.se/kalender/unga-vuxna/2026-03-31/
LOCATION:Pingstkyrkan\, Jönköping\, Västra torget\, Lagermansgatan 1\, Jönköping\, Sverige
GEO:57.7819831;14.1553961
X-APPLE-STRUCTURED-LOCATION;VALUE=URI;X-ADDRESS=Pingstkyrkan Jönköping Västra torget Lagermansgatan 1 Jönköping Sverige;X-APPLE-RADIUS=500;X-TITLE=Västra torget\, Lagermansgatan 1:geo:14.1553961,57.7819831
END:VEVENT
BEGIN:VEVENT
DTSTART;TZID=Europe/Stockholm:20260401T100000
DTEND;TZID=Europe/Stockholm:20260401T120000
DTSTAMP:20260425T184953
CREATED:20251216T142734Z
LAST-MODIFIED:20260121T103339Z
UID:10010644-1775037600-1775044800@pingstjonkoping.se
SUMMARY:Kvinna
DESCRIPTION:gemenskap och skapande
URL:https://pingstjonkoping.se/kalender/kvinna/2026-04-01/
LOCATION:Pingstkyrkan\, Jönköping\, Västra torget\, Lagermansgatan 1\, Jönköping\, Sverige
CATEGORIES:Kvinnor
GEO:57.7819831;14.1553961
X-APPLE-STRUCTURED-LOCATION;VALUE=URI;X-ADDRESS=Pingstkyrkan Jönköping Västra torget Lagermansgatan 1 Jönköping Sverige;X-APPLE-RADIUS=500;X-TITLE=Västra torget\, Lagermansgatan 1:geo:14.1553961,57.7819831
END:VEVENT
BEGIN:VEVENT
DTSTART;TZID=Europe/Stockholm:20260401T140000
DTEND;TZID=Europe/Stockholm:20260401T160000
DTSTAMP:20260425T184953
CREATED:20260123T144709Z
LAST-MODIFIED:20260123T144709Z
UID:10010747-1775052000-1775059200@pingstjonkoping.se
SUMMARY:Torget60+/RPG
DESCRIPTION: RoseAnn Hulusjö och Christer Tornberg med vänner sjunger in påsken.
URL:https://pingstjonkoping.se/kalender/torget60-rpg-3/
LOCATION:Pingstkyrkan\, Jönköping\, Västra torget\, Lagermansgatan 1\, Jönköping\, Sverige
CATEGORIES:Senior
GEO:57.7819831;14.1553961
X-APPLE-STRUCTURED-LOCATION;VALUE=URI;X-ADDRESS=Pingstkyrkan Jönköping Västra torget Lagermansgatan 1 Jönköping Sverige;X-APPLE-RADIUS=500;X-TITLE=Västra torget\, Lagermansgatan 1:geo:14.1553961,57.7819831
END:VEVENT
BEGIN:VEVENT
DTSTART;TZID=Europe/Stockholm:20260402T100000
DTEND;TZID=Europe/Stockholm:20260402T120000
DTSTAMP:20260425T184953
CREATED:20251216T143026Z
LAST-MODIFIED:20260123T150412Z
UID:10010667-1775124000-1775131200@pingstjonkoping.se
SUMMARY:Öppna förskolan
DESCRIPTION:
URL:https://pingstjonkoping.se/kalender/oppna-forskolan/2026-04-02/
LOCATION:Pingstkyrkan\, Jönköping\, Västra torget\, Lagermansgatan 1\, Jönköping\, Sverige
CATEGORIES:Barn
GEO:57.7819831;14.1553961
X-APPLE-STRUCTURED-LOCATION;VALUE=URI;X-ADDRESS=Pingstkyrkan Jönköping Västra torget Lagermansgatan 1 Jönköping Sverige;X-APPLE-RADIUS=500;X-TITLE=Västra torget\, Lagermansgatan 1:geo:14.1553961,57.7819831
END:VEVENT
BEGIN:VEVENT
DTSTART;TZID=Europe/Stockholm:20260402T183000
DTEND;TZID=Europe/Stockholm:20260402T193000
DTSTAMP:20260425T184953
CREATED:20260123T144955Z
LAST-MODIFIED:20260401T140353Z
UID:10010750-1775154600-1775158200@pingstjonkoping.se
SUMMARY:Getsemanestund
DESCRIPTION:med nattvard. Musik: orkestern. \nFör barnen: samling i Leklandet. Predikan: Chatrine Carlson
URL:https://pingstjonkoping.se/kalender/getsemanestund/
LOCATION:Pingstkyrkan\, Jönköping\, Västra torget\, Lagermansgatan 1\, Jönköping\, Sverige
GEO:57.7819831;14.1553961
X-APPLE-STRUCTURED-LOCATION;VALUE=URI;X-ADDRESS=Pingstkyrkan Jönköping Västra torget Lagermansgatan 1 Jönköping Sverige;X-APPLE-RADIUS=500;X-TITLE=Västra torget\, Lagermansgatan 1:geo:14.1553961,57.7819831
END:VEVENT
BEGIN:VEVENT
DTSTART;TZID=Europe/Stockholm:20260403T103000
DTEND;TZID=Europe/Stockholm:20260403T120000
DTSTAMP:20260425T184953
CREATED:20260123T144745Z
LAST-MODIFIED:20260401T140328Z
UID:10010748-1775212200-1775217600@pingstjonkoping.se
SUMMARY:Långfredagsgudstjänst
DESCRIPTION:Predikan: Mathias Maxstad.  \nMusik: Orkestern. För barnen: samling i leklandet 
URL:https://pingstjonkoping.se/kalender/langfredagsgudstjanst/
LOCATION:Pingstkyrkan\, Jönköping\, Västra torget\, Lagermansgatan 1\, Jönköping\, Sverige
GEO:57.7819831;14.1553961
X-APPLE-STRUCTURED-LOCATION;VALUE=URI;X-ADDRESS=Pingstkyrkan Jönköping Västra torget Lagermansgatan 1 Jönköping Sverige;X-APPLE-RADIUS=500;X-TITLE=Västra torget\, Lagermansgatan 1:geo:14.1553961,57.7819831
END:VEVENT
BEGIN:VEVENT
DTSTART;TZID=Europe/Stockholm:20260403T120000
DTEND;TZID=Europe/Stockholm:20260403T150000
DTSTAMP:20260425T184953
CREATED:20251216T140320Z
LAST-MODIFIED:20260213T092931Z
UID:10010152-1775217600-1775228400@pingstjonkoping.se
SUMMARY:Hänggänget (LPhäng)
DESCRIPTION:Kom och dela livet tillsammans. \nTa med lunch – Vi börjar med att äta ihop.
URL:https://pingstjonkoping.se/kalender/hangganget-lphang/2026-04-03/
LOCATION:Pingstkyrkan\, Jönköping\, Västra torget\, Lagermansgatan 1\, Jönköping\, Sverige
GEO:57.7819831;14.1553961
X-APPLE-STRUCTURED-LOCATION;VALUE=URI;X-ADDRESS=Pingstkyrkan Jönköping Västra torget Lagermansgatan 1 Jönköping Sverige;X-APPLE-RADIUS=500;X-TITLE=Västra torget\, Lagermansgatan 1:geo:14.1553961,57.7819831
END:VEVENT
BEGIN:VEVENT
DTSTART;TZID=Europe/Stockholm:20260404T113000
DTEND;TZID=Europe/Stockholm:20260404T140000
DTSTAMP:20260425T184953
CREATED:20260224T152647Z
LAST-MODIFIED:20260327T131255Z
UID:10010782-1775302200-1775311200@pingstjonkoping.se
SUMMARY:Påskfest
DESCRIPTION:med god mat\, gemenskap\, tipspromenad och påsk-äggjakt.  \nKlicka här för anmälan
URL:https://pingstjonkoping.se/kalender/paskfest/
LOCATION:Pingstkyrkan\, Jönköping\, Västra torget\, Lagermansgatan 1\, Jönköping\, Sverige
GEO:57.7819831;14.1553961
X-APPLE-STRUCTURED-LOCATION;VALUE=URI;X-ADDRESS=Pingstkyrkan Jönköping Västra torget Lagermansgatan 1 Jönköping Sverige;X-APPLE-RADIUS=500;X-TITLE=Västra torget\, Lagermansgatan 1:geo:14.1553961,57.7819831
END:VEVENT
BEGIN:VEVENT
DTSTART;TZID=Europe/Stockholm:20260405T103000
DTEND;TZID=Europe/Stockholm:20260405T120000
DTSTAMP:20260425T184953
CREATED:20260123T144812Z
LAST-MODIFIED:20260401T140310Z
UID:10010749-1775385000-1775390400@pingstjonkoping.se
SUMMARY:Påskdags-gudstjänst
DESCRIPTION:Söndagsklubben. Dop. \nPredikan: Fredrik Lignell. Församlingskören.
URL:https://pingstjonkoping.se/kalender/paskdags-gudstjanst/
LOCATION:Pingstkyrkan\, Jönköping\, Västra torget\, Lagermansgatan 1\, Jönköping\, Sverige
GEO:57.7819831;14.1553961
X-APPLE-STRUCTURED-LOCATION;VALUE=URI;X-ADDRESS=Pingstkyrkan Jönköping Västra torget Lagermansgatan 1 Jönköping Sverige;X-APPLE-RADIUS=500;X-TITLE=Västra torget\, Lagermansgatan 1:geo:14.1553961,57.7819831
END:VEVENT
END:VCALENDAR