BEGIN:VCALENDAR
VERSION:2.0
PRODID:-//Pingst Jönköping - ECPv6.15.20//NONSGML v1.0//EN
CALSCALE:GREGORIAN
METHOD:PUBLISH
X-WR-CALNAME:Pingst Jönköping
X-ORIGINAL-URL:https://pingstjonkoping.se
X-WR-CALDESC:Händelser för Pingst Jönköping
REFRESH-INTERVAL;VALUE=DURATION:PT1H
X-Robots-Tag:noindex
X-PUBLISHED-TTL:PT1H
BEGIN:VTIMEZONE
TZID:Europe/Stockholm
BEGIN:DAYLIGHT
TZOFFSETFROM:+0100
TZOFFSETTO:+0200
TZNAME:CEST
DTSTART:20240331T010000
END:DAYLIGHT
BEGIN:STANDARD
TZOFFSETFROM:+0200
TZOFFSETTO:+0100
TZNAME:CET
DTSTART:20241027T010000
END:STANDARD
BEGIN:DAYLIGHT
TZOFFSETFROM:+0100
TZOFFSETTO:+0200
TZNAME:CEST
DTSTART:20250330T010000
END:DAYLIGHT
BEGIN:STANDARD
TZOFFSETFROM:+0200
TZOFFSETTO:+0100
TZNAME:CET
DTSTART:20251026T010000
END:STANDARD
BEGIN:DAYLIGHT
TZOFFSETFROM:+0100
TZOFFSETTO:+0200
TZNAME:CEST
DTSTART:20260329T010000
END:DAYLIGHT
BEGIN:STANDARD
TZOFFSETFROM:+0200
TZOFFSETTO:+0100
TZNAME:CET
DTSTART:20261025T010000
END:STANDARD
BEGIN:DAYLIGHT
TZOFFSETFROM:+0100
TZOFFSETTO:+0200
TZNAME:CEST
DTSTART:20270328T010000
END:DAYLIGHT
BEGIN:STANDARD
TZOFFSETFROM:+0200
TZOFFSETTO:+0100
TZNAME:CET
DTSTART:20271031T010000
END:STANDARD
END:VTIMEZONE
BEGIN:VEVENT
DTSTART;TZID=Europe/Stockholm:20260115T130000
DTEND;TZID=Europe/Stockholm:20260115T140000
DTSTAMP:20260425T221604
CREATED:20251216T140801Z
LAST-MODIFIED:20251217T141541Z
UID:10010171-1768482000-1768485600@pingstjonkoping.se
SUMMARY:Lunchbön
DESCRIPTION:i lyssnande eller bönepromenad. Bönevecka
URL:https://pingstjonkoping.se/kalender/lunchbon-2/2026-01-15/
LOCATION:Pingstkyrkan\, Jönköping\, Västra torget\, Lagermansgatan 1\, Jönköping\, Sverige
CATEGORIES:Bön
GEO:57.7819831;14.1553961
X-APPLE-STRUCTURED-LOCATION;VALUE=URI;X-ADDRESS=Pingstkyrkan Jönköping Västra torget Lagermansgatan 1 Jönköping Sverige;X-APPLE-RADIUS=500;X-TITLE=Västra torget\, Lagermansgatan 1:geo:14.1553961,57.7819831
END:VEVENT
BEGIN:VEVENT
DTSTART;TZID=Europe/Stockholm:20260115T090000
DTEND;TZID=Europe/Stockholm:20260115T100000
DTSTAMP:20260425T221604
CREATED:20251216T140540Z
LAST-MODIFIED:20251217T141528Z
UID:10010166-1768467600-1768471200@pingstjonkoping.se
SUMMARY:Morgonbön
DESCRIPTION:Bönevecka
URL:https://pingstjonkoping.se/kalender/morgonbon-2/2026-01-15/
LOCATION:Pingstkyrkan\, Jönköping\, Västra torget\, Lagermansgatan 1\, Jönköping\, Sverige
CATEGORIES:Bön
GEO:57.7819831;14.1553961
X-APPLE-STRUCTURED-LOCATION;VALUE=URI;X-ADDRESS=Pingstkyrkan Jönköping Västra torget Lagermansgatan 1 Jönköping Sverige;X-APPLE-RADIUS=500;X-TITLE=Västra torget\, Lagermansgatan 1:geo:14.1553961,57.7819831
END:VEVENT
BEGIN:VEVENT
DTSTART;TZID=Europe/Stockholm:20260114T183000
DTEND;TZID=Europe/Stockholm:20260114T193000
DTSTAMP:20260425T221604
CREATED:20251216T141239Z
LAST-MODIFIED:20260113T084945Z
UID:10010704-1768415400-1768419000@pingstjonkoping.se
SUMMARY:Kvällsbön
DESCRIPTION:lovsång & tillbedjan\, bönestationer\, betjäning.
URL:https://pingstjonkoping.se/kalender/kvallsbon/2026-01-14/
LOCATION:Pingstkyrkan\, Jönköping\, Västra torget\, Lagermansgatan 1\, Jönköping\, Sverige
CATEGORIES:Bön
GEO:57.7819831;14.1553961
X-APPLE-STRUCTURED-LOCATION;VALUE=URI;X-ADDRESS=Pingstkyrkan Jönköping Västra torget Lagermansgatan 1 Jönköping Sverige;X-APPLE-RADIUS=500;X-TITLE=Västra torget\, Lagermansgatan 1:geo:14.1553961,57.7819831
END:VEVENT
BEGIN:VEVENT
DTSTART;TZID=Europe/Stockholm:20260114T130000
DTEND;TZID=Europe/Stockholm:20260114T140000
DTSTAMP:20260425T221604
CREATED:20251216T140801Z
LAST-MODIFIED:20251217T141541Z
UID:10010170-1768395600-1768399200@pingstjonkoping.se
SUMMARY:Lunchbön
DESCRIPTION:i lyssnande eller bönepromenad. Bönevecka
URL:https://pingstjonkoping.se/kalender/lunchbon-2/2026-01-14/
LOCATION:Pingstkyrkan\, Jönköping\, Västra torget\, Lagermansgatan 1\, Jönköping\, Sverige
CATEGORIES:Bön
GEO:57.7819831;14.1553961
X-APPLE-STRUCTURED-LOCATION;VALUE=URI;X-ADDRESS=Pingstkyrkan Jönköping Västra torget Lagermansgatan 1 Jönköping Sverige;X-APPLE-RADIUS=500;X-TITLE=Västra torget\, Lagermansgatan 1:geo:14.1553961,57.7819831
END:VEVENT
BEGIN:VEVENT
DTSTART;TZID=Europe/Stockholm:20260114T103000
DTEND;TZID=Europe/Stockholm:20260114T113000
DTSTAMP:20260425T221604
CREATED:20251216T141713Z
LAST-MODIFIED:20251216T141713Z
UID:10010551-1768386600-1768390200@pingstjonkoping.se
SUMMARY:Träningsgrupp för äldre
DESCRIPTION:
URL:https://pingstjonkoping.se/kalender/traningsgrupp-for-aldre/2026-01-14/
LOCATION:Pingstkyrkan\, Jönköping\, Västra torget\, Lagermansgatan 1\, Jönköping\, Sverige
CATEGORIES:Senior
GEO:57.7819831;14.1553961
X-APPLE-STRUCTURED-LOCATION;VALUE=URI;X-ADDRESS=Pingstkyrkan Jönköping Västra torget Lagermansgatan 1 Jönköping Sverige;X-APPLE-RADIUS=500;X-TITLE=Västra torget\, Lagermansgatan 1:geo:14.1553961,57.7819831
END:VEVENT
BEGIN:VEVENT
DTSTART;TZID=Europe/Stockholm:20260114T090000
DTEND;TZID=Europe/Stockholm:20260114T100000
DTSTAMP:20260425T221604
CREATED:20251216T140540Z
LAST-MODIFIED:20251217T141528Z
UID:10010165-1768381200-1768384800@pingstjonkoping.se
SUMMARY:Morgonbön
DESCRIPTION:Bönevecka
URL:https://pingstjonkoping.se/kalender/morgonbon-2/2026-01-14/
LOCATION:Pingstkyrkan\, Jönköping\, Västra torget\, Lagermansgatan 1\, Jönköping\, Sverige
CATEGORIES:Bön
GEO:57.7819831;14.1553961
X-APPLE-STRUCTURED-LOCATION;VALUE=URI;X-ADDRESS=Pingstkyrkan Jönköping Västra torget Lagermansgatan 1 Jönköping Sverige;X-APPLE-RADIUS=500;X-TITLE=Västra torget\, Lagermansgatan 1:geo:14.1553961,57.7819831
END:VEVENT
BEGIN:VEVENT
DTSTART;TZID=Europe/Stockholm:20260113T183000
DTEND;TZID=Europe/Stockholm:20260113T193000
DTSTAMP:20260425T221604
CREATED:20251216T141239Z
LAST-MODIFIED:20260113T084945Z
UID:10010703-1768329000-1768332600@pingstjonkoping.se
SUMMARY:Kvällsbön
DESCRIPTION:lovsång & tillbedjan\, bönestationer\, betjäning.
URL:https://pingstjonkoping.se/kalender/kvallsbon/2026-01-13/
LOCATION:Pingstkyrkan\, Jönköping\, Västra torget\, Lagermansgatan 1\, Jönköping\, Sverige
CATEGORIES:Bön
GEO:57.7819831;14.1553961
X-APPLE-STRUCTURED-LOCATION;VALUE=URI;X-ADDRESS=Pingstkyrkan Jönköping Västra torget Lagermansgatan 1 Jönköping Sverige;X-APPLE-RADIUS=500;X-TITLE=Västra torget\, Lagermansgatan 1:geo:14.1553961,57.7819831
END:VEVENT
BEGIN:VEVENT
DTSTART;TZID=Europe/Stockholm:20260113T130000
DTEND;TZID=Europe/Stockholm:20260113T140000
DTSTAMP:20260425T221604
CREATED:20251216T140801Z
LAST-MODIFIED:20251217T141541Z
UID:10010169-1768309200-1768312800@pingstjonkoping.se
SUMMARY:Lunchbön
DESCRIPTION:i lyssnande eller bönepromenad. Bönevecka
URL:https://pingstjonkoping.se/kalender/lunchbon-2/2026-01-13/
LOCATION:Pingstkyrkan\, Jönköping\, Västra torget\, Lagermansgatan 1\, Jönköping\, Sverige
CATEGORIES:Bön
GEO:57.7819831;14.1553961
X-APPLE-STRUCTURED-LOCATION;VALUE=URI;X-ADDRESS=Pingstkyrkan Jönköping Västra torget Lagermansgatan 1 Jönköping Sverige;X-APPLE-RADIUS=500;X-TITLE=Västra torget\, Lagermansgatan 1:geo:14.1553961,57.7819831
END:VEVENT
BEGIN:VEVENT
DTSTART;TZID=Europe/Stockholm:20260113T110000
DTEND;TZID=Europe/Stockholm:20260113T120000
DTSTAMP:20260425T221604
CREATED:20260113T085006Z
LAST-MODIFIED:20260113T085006Z
UID:10010706-1768302000-1768305600@pingstjonkoping.se
SUMMARY:Bön
DESCRIPTION:
URL:https://pingstjonkoping.se/kalender/bon/
LOCATION:Pingstkyrkan\, Jönköping\, Västra torget\, Lagermansgatan 1\, Jönköping\, Sverige
CATEGORIES:Bön
GEO:57.7819831;14.1553961
X-APPLE-STRUCTURED-LOCATION;VALUE=URI;X-ADDRESS=Pingstkyrkan Jönköping Västra torget Lagermansgatan 1 Jönköping Sverige;X-APPLE-RADIUS=500;X-TITLE=Västra torget\, Lagermansgatan 1:geo:14.1553961,57.7819831
END:VEVENT
BEGIN:VEVENT
DTSTART;TZID=Europe/Stockholm:20260113T090000
DTEND;TZID=Europe/Stockholm:20260113T100000
DTSTAMP:20260425T221604
CREATED:20251216T140540Z
LAST-MODIFIED:20251217T141528Z
UID:10010164-1768294800-1768298400@pingstjonkoping.se
SUMMARY:Morgonbön
DESCRIPTION:Bönevecka
URL:https://pingstjonkoping.se/kalender/morgonbon-2/2026-01-13/
LOCATION:Pingstkyrkan\, Jönköping\, Västra torget\, Lagermansgatan 1\, Jönköping\, Sverige
CATEGORIES:Bön
GEO:57.7819831;14.1553961
X-APPLE-STRUCTURED-LOCATION;VALUE=URI;X-ADDRESS=Pingstkyrkan Jönköping Västra torget Lagermansgatan 1 Jönköping Sverige;X-APPLE-RADIUS=500;X-TITLE=Västra torget\, Lagermansgatan 1:geo:14.1553961,57.7819831
END:VEVENT
BEGIN:VEVENT
DTSTART;TZID=Europe/Stockholm:20260111T180000
DTEND;TZID=Europe/Stockholm:20260111T193000
DTSTAMP:20260425T221604
CREATED:20251216T140844Z
LAST-MODIFIED:20251216T140844Z
UID:10010537-1768154400-1768159800@pingstjonkoping.se
SUMMARY:Storbönemöte
DESCRIPTION:för vår region och vårt land. Tillsammans med \nKungsporten m.fl . I Pingst Jönköping
URL:https://pingstjonkoping.se/kalender/storbonemote/
LOCATION:Pingstkyrkan\, Jönköping\, Västra torget\, Lagermansgatan 1\, Jönköping\, Sverige
CATEGORIES:Bön
GEO:57.7819831;14.1553961
X-APPLE-STRUCTURED-LOCATION;VALUE=URI;X-ADDRESS=Pingstkyrkan Jönköping Västra torget Lagermansgatan 1 Jönköping Sverige;X-APPLE-RADIUS=500;X-TITLE=Västra torget\, Lagermansgatan 1:geo:14.1553961,57.7819831
END:VEVENT
BEGIN:VEVENT
DTSTART;TZID=Europe/Stockholm:20260111T103000
DTEND;TZID=Europe/Stockholm:20260111T120000
DTSTAMP:20260425T221604
CREATED:20251216T140400Z
LAST-MODIFIED:20251216T140400Z
UID:10010162-1768127400-1768132800@pingstjonkoping.se
SUMMARY:Gudstjänst - visionsöndag
DESCRIPTION:Söndagsklubben. \nMusik: Anna-Kaisa Wahlin med team.
URL:https://pingstjonkoping.se/kalender/gudstjanst-visionsondag/
LOCATION:Pingstkyrkan\, Jönköping\, Västra torget\, Lagermansgatan 1\, Jönköping\, Sverige
GEO:57.7819831;14.1553961
X-APPLE-STRUCTURED-LOCATION;VALUE=URI;X-ADDRESS=Pingstkyrkan Jönköping Västra torget Lagermansgatan 1 Jönköping Sverige;X-APPLE-RADIUS=500;X-TITLE=Västra torget\, Lagermansgatan 1:geo:14.1553961,57.7819831
END:VEVENT
BEGIN:VEVENT
DTSTART;TZID=Europe/Stockholm:20260109T120000
DTEND;TZID=Europe/Stockholm:20260109T150000
DTSTAMP:20260425T221604
CREATED:20251216T140320Z
LAST-MODIFIED:20260213T092931Z
UID:10010140-1767960000-1767970800@pingstjonkoping.se
SUMMARY:Hänggänget (LPhäng)
DESCRIPTION:Kom och dela livet tillsammans. \nTa med lunch – Vi börjar med att äta ihop.
URL:https://pingstjonkoping.se/kalender/hangganget-lphang/2026-01-09/
LOCATION:Pingstkyrkan\, Jönköping\, Västra torget\, Lagermansgatan 1\, Jönköping\, Sverige
GEO:57.7819831;14.1553961
X-APPLE-STRUCTURED-LOCATION;VALUE=URI;X-ADDRESS=Pingstkyrkan Jönköping Västra torget Lagermansgatan 1 Jönköping Sverige;X-APPLE-RADIUS=500;X-TITLE=Västra torget\, Lagermansgatan 1:geo:14.1553961,57.7819831
END:VEVENT
BEGIN:VEVENT
DTSTART;TZID=Europe/Stockholm:20260106T110000
DTEND;TZID=Europe/Stockholm:20260106T120000
DTSTAMP:20260425T221604
CREATED:20251216T140049Z
LAST-MODIFIED:20251216T140049Z
UID:10010119-1767697200-1767700800@pingstjonkoping.se
SUMMARY:Bön
DESCRIPTION:
URL:https://pingstjonkoping.se/kalender/bon-3/2026-01-06/
LOCATION:Pingstkyrkan\, Jönköping\, Västra torget\, Lagermansgatan 1\, Jönköping\, Sverige
CATEGORIES:Bön
GEO:57.7819831;14.1553961
X-APPLE-STRUCTURED-LOCATION;VALUE=URI;X-ADDRESS=Pingstkyrkan Jönköping Västra torget Lagermansgatan 1 Jönköping Sverige;X-APPLE-RADIUS=500;X-TITLE=Västra torget\, Lagermansgatan 1:geo:14.1553961,57.7819831
END:VEVENT
BEGIN:VEVENT
DTSTART;TZID=Europe/Stockholm:20260104T103000
DTEND;TZID=Europe/Stockholm:20260104T120000
DTSTAMP:20260425T221604
CREATED:20251128T164727Z
LAST-MODIFIED:20251216T140116Z
UID:10010114-1767522600-1767528000@pingstjonkoping.se
SUMMARY:Gudstjänst
DESCRIPTION:Söndagsklubben-vinter. \nTema: ”Våga fråga”. Skicka in dina bibelfrågor innan \ngudstjänsten. Nattvard.
URL:https://pingstjonkoping.se/kalender/gudstjanst-119/
LOCATION:Pingstkyrkan\, Jönköping\, Västra torget\, Lagermansgatan 1\, Jönköping\, Sverige
GEO:57.7819831;14.1553961
X-APPLE-STRUCTURED-LOCATION;VALUE=URI;X-ADDRESS=Pingstkyrkan Jönköping Västra torget Lagermansgatan 1 Jönköping Sverige;X-APPLE-RADIUS=500;X-TITLE=Västra torget\, Lagermansgatan 1:geo:14.1553961,57.7819831
END:VEVENT
BEGIN:VEVENT
DTSTART;TZID=Europe/Stockholm:20260101T110000
DTEND;TZID=Europe/Stockholm:20260101T123000
DTSTAMP:20260425T221604
CREATED:20251128T164708Z
LAST-MODIFIED:20251128T164708Z
UID:10010113-1767265200-1767270600@pingstjonkoping.se
SUMMARY:UNITE morning
DESCRIPTION:öppen gudstjänst
URL:https://pingstjonkoping.se/kalender/unite-morning/
LOCATION:Pingstkyrkan\, Jönköping\, Västra torget\, Lagermansgatan 1\, Jönköping\, Sverige
CATEGORIES:Ungdom
GEO:57.7819831;14.1553961
X-APPLE-STRUCTURED-LOCATION;VALUE=URI;X-ADDRESS=Pingstkyrkan Jönköping Västra torget Lagermansgatan 1 Jönköping Sverige;X-APPLE-RADIUS=500;X-TITLE=Västra torget\, Lagermansgatan 1:geo:14.1553961,57.7819831
END:VEVENT
BEGIN:VEVENT
DTSTART;TZID=Europe/Stockholm:20251228T160000
DTEND;TZID=Europe/Stockholm:20251228T173000
DTSTAMP:20260425T221604
CREATED:20251015T115157Z
LAST-MODIFIED:20251128T164558Z
UID:10010083-1766937600-1766943000@pingstjonkoping.se
SUMMARY:Gudstjänst
DESCRIPTION:Predikan: Samuel Westergren \nMusik: Unites-lovsångsteam. Söndagsklubben-vinter- nyårsfest
URL:https://pingstjonkoping.se/kalender/gudstjanst-115/
LOCATION:Pingstkyrkan\, Jönköping\, Västra torget\, Lagermansgatan 1\, Jönköping\, Sverige
CATEGORIES:Gudstjänst
GEO:57.7819831;14.1553961
X-APPLE-STRUCTURED-LOCATION;VALUE=URI;X-ADDRESS=Pingstkyrkan Jönköping Västra torget Lagermansgatan 1 Jönköping Sverige;X-APPLE-RADIUS=500;X-TITLE=Västra torget\, Lagermansgatan 1:geo:14.1553961,57.7819831
END:VEVENT
BEGIN:VEVENT
DTSTART;TZID=Europe/Stockholm:20251224T230000
DTEND;TZID=Europe/Stockholm:20251224T235900
DTSTAMP:20260425T221604
CREATED:20251128T164537Z
LAST-MODIFIED:20251128T164537Z
UID:10010112-1766617200-1766620740@pingstjonkoping.se
SUMMARY:Midnattsgudstjänst
DESCRIPTION:med Mathias Maxstad. Sång och musik av familjen Arvidsson och Kicki Hestner.
URL:https://pingstjonkoping.se/kalender/midnattsgudstjanst-4/
LOCATION:Pingstkyrkan\, Jönköping\, Västra torget\, Lagermansgatan 1\, Jönköping\, Sverige
GEO:57.7819831;14.1553961
X-APPLE-STRUCTURED-LOCATION;VALUE=URI;X-ADDRESS=Pingstkyrkan Jönköping Västra torget Lagermansgatan 1 Jönköping Sverige;X-APPLE-RADIUS=500;X-TITLE=Västra torget\, Lagermansgatan 1:geo:14.1553961,57.7819831
END:VEVENT
BEGIN:VEVENT
DTSTART;TZID=Europe/Stockholm:20251223T110000
DTEND;TZID=Europe/Stockholm:20251223T120000
DTSTAMP:20260425T221604
CREATED:20251128T164503Z
LAST-MODIFIED:20251128T164503Z
UID:10010111-1766487600-1766491200@pingstjonkoping.se
SUMMARY:Bön
DESCRIPTION:
URL:https://pingstjonkoping.se/kalender/bon-9/
LOCATION:Pingstkyrkan\, Jönköping\, Västra torget\, Lagermansgatan 1\, Jönköping\, Sverige
CATEGORIES:Bön
GEO:57.7819831;14.1553961
X-APPLE-STRUCTURED-LOCATION;VALUE=URI;X-ADDRESS=Pingstkyrkan Jönköping Västra torget Lagermansgatan 1 Jönköping Sverige;X-APPLE-RADIUS=500;X-TITLE=Västra torget\, Lagermansgatan 1:geo:14.1553961,57.7819831
END:VEVENT
BEGIN:VEVENT
DTSTART;TZID=Europe/Stockholm:20251221T103000
DTEND;TZID=Europe/Stockholm:20251221T120000
DTSTAMP:20260425T221604
CREATED:20251028T133852Z
LAST-MODIFIED:20251028T133852Z
UID:10010101-1766313000-1766318400@pingstjonkoping.se
SUMMARY:Gudstjänst -4:e advent
DESCRIPTION:Predikan: Anna-Kaisa Wahlin. Musik: Camilla Wahlgren och Jakob Holmberg
URL:https://pingstjonkoping.se/kalender/gudstjanst-4e-advent-2/
LOCATION:Pingstkyrkan\, Jönköping\, Västra torget\, Lagermansgatan 1\, Jönköping\, Sverige
CATEGORIES:Gudstjänst
GEO:57.7819831;14.1553961
X-APPLE-STRUCTURED-LOCATION;VALUE=URI;X-ADDRESS=Pingstkyrkan Jönköping Västra torget Lagermansgatan 1 Jönköping Sverige;X-APPLE-RADIUS=500;X-TITLE=Västra torget\, Lagermansgatan 1:geo:14.1553961,57.7819831
END:VEVENT
BEGIN:VEVENT
DTSTART;TZID=Europe/Stockholm:20251220T130000
DTEND;TZID=Europe/Stockholm:20251220T180000
DTSTAMP:20260425T221604
CREATED:20251128T164426Z
LAST-MODIFIED:20251128T164426Z
UID:10010109-1766235600-1766253600@pingstjonkoping.se
SUMMARY:Singoallas julfest
DESCRIPTION:drop in\, julmarknad\, julfirande för ensamstående föräldrar och deras barn. 
URL:https://pingstjonkoping.se/kalender/singoallas-julfest-2/
LOCATION:Pingstkyrkan\, Jönköping\, Västra torget\, Lagermansgatan 1\, Jönköping\, Sverige
GEO:57.7819831;14.1553961
X-APPLE-STRUCTURED-LOCATION;VALUE=URI;X-ADDRESS=Pingstkyrkan Jönköping Västra torget Lagermansgatan 1 Jönköping Sverige;X-APPLE-RADIUS=500;X-TITLE=Västra torget\, Lagermansgatan 1:geo:14.1553961,57.7819831
END:VEVENT
BEGIN:VEVENT
DTSTART;TZID=Europe/Stockholm:20251219T180000
DTEND;TZID=Europe/Stockholm:20251219T193000
DTSTAMP:20260425T221604
CREATED:20250630T091341Z
LAST-MODIFIED:20251028T132626Z
UID:10010099-1766167200-1766172600@pingstjonkoping.se
SUMMARY:Hänget
DESCRIPTION:för dig i årsk 4-6
URL:https://pingstjonkoping.se/kalender/hanget-3/2025-12-19/
LOCATION:Pingstkyrkan\, Jönköping\, Västra torget\, Lagermansgatan 1\, Jönköping\, Sverige
CATEGORIES:Barn
GEO:57.7819831;14.1553961
X-APPLE-STRUCTURED-LOCATION;VALUE=URI;X-ADDRESS=Pingstkyrkan Jönköping Västra torget Lagermansgatan 1 Jönköping Sverige;X-APPLE-RADIUS=500;X-TITLE=Västra torget\, Lagermansgatan 1:geo:14.1553961,57.7819831
END:VEVENT
BEGIN:VEVENT
DTSTART;TZID=Europe/Stockholm:20251219T120000
DTEND;TZID=Europe/Stockholm:20251219T150000
DTSTAMP:20260425T221604
CREATED:20250630T090653Z
LAST-MODIFIED:20250630T090653Z
UID:10009906-1766145600-1766156400@pingstjonkoping.se
SUMMARY:Hänggänget (LP-häng)
DESCRIPTION:Kom och dela livet tillsammans. \nTa med lunch – Vi börjar med att äta ihop.
URL:https://pingstjonkoping.se/kalender/hangganget-lp-hang/2025-12-19/
LOCATION:Pingstkyrkan\, Jönköping\, Västra torget\, Lagermansgatan 1\, Jönköping\, Sverige
GEO:57.7819831;14.1553961
X-APPLE-STRUCTURED-LOCATION;VALUE=URI;X-ADDRESS=Pingstkyrkan Jönköping Västra torget Lagermansgatan 1 Jönköping Sverige;X-APPLE-RADIUS=500;X-TITLE=Västra torget\, Lagermansgatan 1:geo:14.1553961,57.7819831
END:VEVENT
BEGIN:VEVENT
DTSTART;TZID=Europe/Stockholm:20251218T183000
DTEND;TZID=Europe/Stockholm:20251218T193000
DTSTAMP:20260425T221604
CREATED:20250226T155155Z
LAST-MODIFIED:20260422T143836Z
UID:10009725-1766082600-1766086200@pingstjonkoping.se
SUMMARY:Bibelläsning
DESCRIPTION:fr. kl 18:00 för ungdomar \n18:30 Bibelläsning för alla (ta med bibel)
URL:https://pingstjonkoping.se/kalender/bibellasning/2025-12-18/
LOCATION:Pingstkyrkan\, Jönköping\, Västra torget\, Lagermansgatan 1\, Jönköping\, Sverige
GEO:57.7819831;14.1553961
X-APPLE-STRUCTURED-LOCATION;VALUE=URI;X-ADDRESS=Pingstkyrkan Jönköping Västra torget Lagermansgatan 1 Jönköping Sverige;X-APPLE-RADIUS=500;X-TITLE=Västra torget\, Lagermansgatan 1:geo:14.1553961,57.7819831
END:VEVENT
BEGIN:VEVENT
DTSTART;TZID=Europe/Stockholm:20251218T170000
DTEND;TZID=Europe/Stockholm:20251218T183000
DTSTAMP:20260425T221604
CREATED:20251128T164445Z
LAST-MODIFIED:20251128T164445Z
UID:10010110-1766077200-1766082600@pingstjonkoping.se
SUMMARY:Cafe hela världen
DESCRIPTION:Julfest
URL:https://pingstjonkoping.se/kalender/cafe-hela-varlden-8/
LOCATION:Pingstkyrkan\, Jönköping\, Västra torget\, Lagermansgatan 1\, Jönköping\, Sverige
GEO:57.7819831;14.1553961
X-APPLE-STRUCTURED-LOCATION;VALUE=URI;X-ADDRESS=Pingstkyrkan Jönköping Västra torget Lagermansgatan 1 Jönköping Sverige;X-APPLE-RADIUS=500;X-TITLE=Västra torget\, Lagermansgatan 1:geo:14.1553961,57.7819831
END:VEVENT
BEGIN:VEVENT
DTSTART;TZID=Europe/Stockholm:20251218T080000
DTEND;TZID=Europe/Stockholm:20251218T090000
DTSTAMP:20260425T221604
CREATED:20250630T084121Z
LAST-MODIFIED:20250630T084121Z
UID:10009876-1766044800-1766048400@pingstjonkoping.se
SUMMARY:Morgonbön
DESCRIPTION:I bönerummet (ingång via dörren till vänster om stora entrén)
URL:https://pingstjonkoping.se/kalender/morgonbon/2025-12-18/
LOCATION:Pingstkyrkan\, Jönköping\, Västra torget\, Lagermansgatan 1\, Jönköping\, Sverige
CATEGORIES:Bön
GEO:57.7819831;14.1553961
X-APPLE-STRUCTURED-LOCATION;VALUE=URI;X-ADDRESS=Pingstkyrkan Jönköping Västra torget Lagermansgatan 1 Jönköping Sverige;X-APPLE-RADIUS=500;X-TITLE=Västra torget\, Lagermansgatan 1:geo:14.1553961,57.7819831
END:VEVENT
BEGIN:VEVENT
DTSTART;TZID=Europe/Stockholm:20251217T080000
DTEND;TZID=Europe/Stockholm:20251217T090000
DTSTAMP:20260425T221604
CREATED:20250630T084121Z
LAST-MODIFIED:20250630T084121Z
UID:10009875-1765958400-1765962000@pingstjonkoping.se
SUMMARY:Morgonbön
DESCRIPTION:I bönerummet (ingång via dörren till vänster om stora entrén)
URL:https://pingstjonkoping.se/kalender/morgonbon/2025-12-17/
LOCATION:Pingstkyrkan\, Jönköping\, Västra torget\, Lagermansgatan 1\, Jönköping\, Sverige
CATEGORIES:Bön
GEO:57.7819831;14.1553961
X-APPLE-STRUCTURED-LOCATION;VALUE=URI;X-ADDRESS=Pingstkyrkan Jönköping Västra torget Lagermansgatan 1 Jönköping Sverige;X-APPLE-RADIUS=500;X-TITLE=Västra torget\, Lagermansgatan 1:geo:14.1553961,57.7819831
END:VEVENT
BEGIN:VEVENT
DTSTART;TZID=Europe/Stockholm:20251216T110000
DTEND;TZID=Europe/Stockholm:20251216T120000
DTSTAMP:20260425T221604
CREATED:20240619T120439Z
LAST-MODIFIED:20250617T110145Z
UID:10009037-1765882800-1765886400@pingstjonkoping.se
SUMMARY:Bön
DESCRIPTION:
URL:https://pingstjonkoping.se/kalender/bon-7/2025-12-16/
LOCATION:Pingstkyrkan\, Jönköping\, Västra torget\, Lagermansgatan 1\, Jönköping\, Sverige
CATEGORIES:Bön
GEO:57.7819831;14.1553961
X-APPLE-STRUCTURED-LOCATION;VALUE=URI;X-ADDRESS=Pingstkyrkan Jönköping Västra torget Lagermansgatan 1 Jönköping Sverige;X-APPLE-RADIUS=500;X-TITLE=Västra torget\, Lagermansgatan 1:geo:14.1553961,57.7819831
END:VEVENT
BEGIN:VEVENT
DTSTART;TZID=Europe/Stockholm:20251216T080000
DTEND;TZID=Europe/Stockholm:20251216T090000
DTSTAMP:20260425T221604
CREATED:20250630T084121Z
LAST-MODIFIED:20250630T084121Z
UID:10009874-1765872000-1765875600@pingstjonkoping.se
SUMMARY:Morgonbön
DESCRIPTION:I bönerummet (ingång via dörren till vänster om stora entrén)
URL:https://pingstjonkoping.se/kalender/morgonbon/2025-12-16/
LOCATION:Pingstkyrkan\, Jönköping\, Västra torget\, Lagermansgatan 1\, Jönköping\, Sverige
CATEGORIES:Bön
GEO:57.7819831;14.1553961
X-APPLE-STRUCTURED-LOCATION;VALUE=URI;X-ADDRESS=Pingstkyrkan Jönköping Västra torget Lagermansgatan 1 Jönköping Sverige;X-APPLE-RADIUS=500;X-TITLE=Västra torget\, Lagermansgatan 1:geo:14.1553961,57.7819831
END:VEVENT
BEGIN:VEVENT
DTSTART;TZID=Europe/Stockholm:20251214T103000
DTEND;TZID=Europe/Stockholm:20251214T120000
DTSTAMP:20260425T221604
CREATED:20251028T133141Z
LAST-MODIFIED:20251128T164233Z
UID:10010100-1765708200-1765713600@pingstjonkoping.se
SUMMARY:Gudstjänst 3:e advent - Barnens julshow
DESCRIPTION:Predikan: Mathias Maxstad. Musik: Anna-Kaisa Wahlin. Söndagsklubben.
URL:https://pingstjonkoping.se/kalender/gudstjanst-3e-advent/
LOCATION:Pingstkyrkan\, Jönköping\, Västra torget\, Lagermansgatan 1\, Jönköping\, Sverige
CATEGORIES:Gudstjänst
GEO:57.7819831;14.1553961
X-APPLE-STRUCTURED-LOCATION;VALUE=URI;X-ADDRESS=Pingstkyrkan Jönköping Västra torget Lagermansgatan 1 Jönköping Sverige;X-APPLE-RADIUS=500;X-TITLE=Västra torget\, Lagermansgatan 1:geo:14.1553961,57.7819831
END:VEVENT
END:VCALENDAR