BEGIN:VCALENDAR
VERSION:2.0
PRODID:-//Pingst Jönköping - ECPv6.15.20//NONSGML v1.0//EN
CALSCALE:GREGORIAN
METHOD:PUBLISH
X-ORIGINAL-URL:https://pingstjonkoping.se
X-WR-CALDESC:Händelser för Pingst Jönköping
REFRESH-INTERVAL;VALUE=DURATION:PT1H
X-Robots-Tag:noindex
X-PUBLISHED-TTL:PT1H
BEGIN:VTIMEZONE
TZID:Europe/Stockholm
BEGIN:DAYLIGHT
TZOFFSETFROM:+0100
TZOFFSETTO:+0200
TZNAME:CEST
DTSTART:20250330T010000
END:DAYLIGHT
BEGIN:STANDARD
TZOFFSETFROM:+0200
TZOFFSETTO:+0100
TZNAME:CET
DTSTART:20251026T010000
END:STANDARD
BEGIN:DAYLIGHT
TZOFFSETFROM:+0100
TZOFFSETTO:+0200
TZNAME:CEST
DTSTART:20260329T010000
END:DAYLIGHT
BEGIN:STANDARD
TZOFFSETFROM:+0200
TZOFFSETTO:+0100
TZNAME:CET
DTSTART:20261025T010000
END:STANDARD
BEGIN:DAYLIGHT
TZOFFSETFROM:+0100
TZOFFSETTO:+0200
TZNAME:CEST
DTSTART:20270328T010000
END:DAYLIGHT
BEGIN:STANDARD
TZOFFSETFROM:+0200
TZOFFSETTO:+0100
TZNAME:CET
DTSTART:20271031T010000
END:STANDARD
END:VTIMEZONE
BEGIN:VEVENT
DTSTART;TZID=Europe/Stockholm:20260129T183000
DTEND;TZID=Europe/Stockholm:20260129T193000
DTSTAMP:20260425T173555
CREATED:20250226T155155Z
LAST-MODIFIED:20260422T143836Z
UID:10009728-1769711400-1769715000@pingstjonkoping.se
SUMMARY:Bibelläsning
DESCRIPTION:fr. kl 18:00 för ungdomar \n18:30 Bibelläsning för alla (ta med bibel)
URL:https://pingstjonkoping.se/kalender/bibellasning/2026-01-29/
LOCATION:Pingstkyrkan\, Jönköping\, Västra torget\, Lagermansgatan 1\, Jönköping\, Sverige
GEO:57.7819831;14.1553961
X-APPLE-STRUCTURED-LOCATION;VALUE=URI;X-ADDRESS=Pingstkyrkan Jönköping Västra torget Lagermansgatan 1 Jönköping Sverige;X-APPLE-RADIUS=500;X-TITLE=Västra torget\, Lagermansgatan 1:geo:14.1553961,57.7819831
END:VEVENT
BEGIN:VEVENT
DTSTART;TZID=Europe/Stockholm:20260129T170000
DTEND;TZID=Europe/Stockholm:20260129T183000
DTSTAMP:20260425T173555
CREATED:20251216T143928Z
LAST-MODIFIED:20260422T143815Z
UID:10010677-1769706000-1769711400@pingstjonkoping.se
SUMMARY:Café hela världen
DESCRIPTION:gemenskap och fika
URL:https://pingstjonkoping.se/kalender/cafe-hela-varlden/2026-01-29/
LOCATION:Pingstkyrkan\, Jönköping\, Västra torget\, Lagermansgatan 1\, Jönköping\, Sverige
GEO:57.7819831;14.1553961
X-APPLE-STRUCTURED-LOCATION;VALUE=URI;X-ADDRESS=Pingstkyrkan Jönköping Västra torget Lagermansgatan 1 Jönköping Sverige;X-APPLE-RADIUS=500;X-TITLE=Västra torget\, Lagermansgatan 1:geo:14.1553961,57.7819831
END:VEVENT
BEGIN:VEVENT
DTSTART;TZID=Europe/Stockholm:20260129T140000
DTEND;TZID=Europe/Stockholm:20260129T160000
DTSTAMP:20260425T173555
CREATED:20251216T141408Z
LAST-MODIFIED:20251216T141408Z
UID:10010542-1769695200-1769702400@pingstjonkoping.se
SUMMARY:Stickcafé
DESCRIPTION:vi stickar för missionen
URL:https://pingstjonkoping.se/kalender/stickcafe/2026-01-29/
LOCATION:Pingstkyrkan\, Jönköping\, Västra torget\, Lagermansgatan 1\, Jönköping\, Sverige
GEO:57.7819831;14.1553961
X-APPLE-STRUCTURED-LOCATION;VALUE=URI;X-ADDRESS=Pingstkyrkan Jönköping Västra torget Lagermansgatan 1 Jönköping Sverige;X-APPLE-RADIUS=500;X-TITLE=Västra torget\, Lagermansgatan 1:geo:14.1553961,57.7819831
END:VEVENT
BEGIN:VEVENT
DTSTART;TZID=Europe/Stockholm:20260129T100000
DTEND;TZID=Europe/Stockholm:20260129T120000
DTSTAMP:20260425T173555
CREATED:20251216T143026Z
LAST-MODIFIED:20260123T150412Z
UID:10010658-1769680800-1769688000@pingstjonkoping.se
SUMMARY:Öppna förskolan
DESCRIPTION:
URL:https://pingstjonkoping.se/kalender/oppna-forskolan/2026-01-29/
LOCATION:Pingstkyrkan\, Jönköping\, Västra torget\, Lagermansgatan 1\, Jönköping\, Sverige
CATEGORIES:Barn
GEO:57.7819831;14.1553961
X-APPLE-STRUCTURED-LOCATION;VALUE=URI;X-ADDRESS=Pingstkyrkan Jönköping Västra torget Lagermansgatan 1 Jönköping Sverige;X-APPLE-RADIUS=500;X-TITLE=Västra torget\, Lagermansgatan 1:geo:14.1553961,57.7819831
END:VEVENT
BEGIN:VEVENT
DTSTART;TZID=Europe/Stockholm:20260128T103000
DTEND;TZID=Europe/Stockholm:20260128T113000
DTSTAMP:20260425T173555
CREATED:20251216T141713Z
LAST-MODIFIED:20251216T141713Z
UID:10010552-1769596200-1769599800@pingstjonkoping.se
SUMMARY:Träningsgrupp för äldre
DESCRIPTION:
URL:https://pingstjonkoping.se/kalender/traningsgrupp-for-aldre/2026-01-28/
LOCATION:Pingstkyrkan\, Jönköping\, Västra torget\, Lagermansgatan 1\, Jönköping\, Sverige
CATEGORIES:Senior
GEO:57.7819831;14.1553961
X-APPLE-STRUCTURED-LOCATION;VALUE=URI;X-ADDRESS=Pingstkyrkan Jönköping Västra torget Lagermansgatan 1 Jönköping Sverige;X-APPLE-RADIUS=500;X-TITLE=Västra torget\, Lagermansgatan 1:geo:14.1553961,57.7819831
END:VEVENT
BEGIN:VEVENT
DTSTART;TZID=Europe/Stockholm:20260128T100000
DTEND;TZID=Europe/Stockholm:20260128T120000
DTSTAMP:20260425T173555
CREATED:20251216T142734Z
LAST-MODIFIED:20260121T103339Z
UID:10010635-1769594400-1769601600@pingstjonkoping.se
SUMMARY:Kvinna
DESCRIPTION:gemenskap och skapande
URL:https://pingstjonkoping.se/kalender/kvinna/2026-01-28/
LOCATION:Pingstkyrkan\, Jönköping\, Västra torget\, Lagermansgatan 1\, Jönköping\, Sverige
CATEGORIES:Kvinnor
GEO:57.7819831;14.1553961
X-APPLE-STRUCTURED-LOCATION;VALUE=URI;X-ADDRESS=Pingstkyrkan Jönköping Västra torget Lagermansgatan 1 Jönköping Sverige;X-APPLE-RADIUS=500;X-TITLE=Västra torget\, Lagermansgatan 1:geo:14.1553961,57.7819831
END:VEVENT
BEGIN:VEVENT
DTSTART;TZID=Europe/Stockholm:20260127T180000
DTEND;TZID=Europe/Stockholm:20260127T193000
DTSTAMP:20260425T173555
CREATED:20251216T144156Z
LAST-MODIFIED:20251216T144156Z
UID:10010697-1769536800-1769542200@pingstjonkoping.se
SUMMARY:Teamkväll
DESCRIPTION:Som för dig är eller vill bli delaktig i vårt gudstjänstarbete
URL:https://pingstjonkoping.se/kalender/teamkvall-3/
LOCATION:Pingstkyrkan\, Jönköping\, Västra torget\, Lagermansgatan 1\, Jönköping\, Sverige
GEO:57.7819831;14.1553961
X-APPLE-STRUCTURED-LOCATION;VALUE=URI;X-ADDRESS=Pingstkyrkan Jönköping Västra torget Lagermansgatan 1 Jönköping Sverige;X-APPLE-RADIUS=500;X-TITLE=Västra torget\, Lagermansgatan 1:geo:14.1553961,57.7819831
END:VEVENT
BEGIN:VEVENT
DTSTART;TZID=Europe/Stockholm:20260127T110000
DTEND;TZID=Europe/Stockholm:20260127T120000
DTSTAMP:20260425T173555
CREATED:20251216T140049Z
LAST-MODIFIED:20251216T140049Z
UID:10010121-1769511600-1769515200@pingstjonkoping.se
SUMMARY:Bön
DESCRIPTION:
URL:https://pingstjonkoping.se/kalender/bon-3/2026-01-27/
LOCATION:Pingstkyrkan\, Jönköping\, Västra torget\, Lagermansgatan 1\, Jönköping\, Sverige
CATEGORIES:Bön
GEO:57.7819831;14.1553961
X-APPLE-STRUCTURED-LOCATION;VALUE=URI;X-ADDRESS=Pingstkyrkan Jönköping Västra torget Lagermansgatan 1 Jönköping Sverige;X-APPLE-RADIUS=500;X-TITLE=Västra torget\, Lagermansgatan 1:geo:14.1553961,57.7819831
END:VEVENT
BEGIN:VEVENT
DTSTART;TZID=Europe/Stockholm:20260125T180000
DTEND;TZID=Europe/Stockholm:20260125T190000
DTSTAMP:20260425T173555
CREATED:20251216T144219Z
LAST-MODIFIED:20251216T144219Z
UID:10010698-1769364000-1769367600@pingstjonkoping.se
SUMMARY:Tid för stillhet
DESCRIPTION:En timmes gudstjänst med stilla lovsång\, sång \noch nattvard.
URL:https://pingstjonkoping.se/kalender/tid-for-stillhet/
LOCATION:Pingstkyrkan\, Jönköping\, Västra torget\, Lagermansgatan 1\, Jönköping\, Sverige
GEO:57.7819831;14.1553961
X-APPLE-STRUCTURED-LOCATION;VALUE=URI;X-ADDRESS=Pingstkyrkan Jönköping Västra torget Lagermansgatan 1 Jönköping Sverige;X-APPLE-RADIUS=500;X-TITLE=Västra torget\, Lagermansgatan 1:geo:14.1553961,57.7819831
END:VEVENT
BEGIN:VEVENT
DTSTART;TZID=Europe/Stockholm:20260125T103000
DTEND;TZID=Europe/Stockholm:20260125T120000
DTSTAMP:20260425T173555
CREATED:20251216T144048Z
LAST-MODIFIED:20251216T144048Z
UID:10010695-1769337000-1769342400@pingstjonkoping.se
SUMMARY:Gudstjänst
DESCRIPTION:Söndagsklubben. \nMusik: Jakob Holmberg med team. \nTema: Andens dop
URL:https://pingstjonkoping.se/kalender/gudstjanst-2/
LOCATION:Pingstkyrkan\, Jönköping\, Västra torget\, Lagermansgatan 1\, Jönköping\, Sverige
GEO:57.7819831;14.1553961
X-APPLE-STRUCTURED-LOCATION;VALUE=URI;X-ADDRESS=Pingstkyrkan Jönköping Västra torget Lagermansgatan 1 Jönköping Sverige;X-APPLE-RADIUS=500;X-TITLE=Västra torget\, Lagermansgatan 1:geo:14.1553961,57.7819831
END:VEVENT
BEGIN:VEVENT
DTSTART;TZID=Europe/Stockholm:20260123T193000
DTEND;TZID=Europe/Stockholm:20260123T233000
DTSTAMP:20260425T173555
CREATED:20251216T142159Z
LAST-MODIFIED:20260213T093209Z
UID:10010587-1769196600-1769211000@pingstjonkoping.se
SUMMARY:ONE
DESCRIPTION:för ungdomar 13+
URL:https://pingstjonkoping.se/kalender/one/2026-01-23/
LOCATION:Pingstkyrkan\, Jönköping\, Västra torget\, Lagermansgatan 1\, Jönköping\, Sverige
CATEGORIES:Ungdom
GEO:57.7819831;14.1553961
X-APPLE-STRUCTURED-LOCATION;VALUE=URI;X-ADDRESS=Pingstkyrkan Jönköping Västra torget Lagermansgatan 1 Jönköping Sverige;X-APPLE-RADIUS=500;X-TITLE=Västra torget\, Lagermansgatan 1:geo:14.1553961,57.7819831
END:VEVENT
BEGIN:VEVENT
DTSTART;TZID=Europe/Stockholm:20260123T180000
DTEND;TZID=Europe/Stockholm:20260123T193000
DTSTAMP:20260425T173555
CREATED:20251216T142419Z
LAST-MODIFIED:20260217T094544Z
UID:10010606-1769191200-1769196600@pingstjonkoping.se
SUMMARY:Hänget
DESCRIPTION:för dig i årsk 4-6
URL:https://pingstjonkoping.se/kalender/hanget-4/2026-01-23/
LOCATION:Pingstkyrkan\, Jönköping\, Västra torget\, Lagermansgatan 1\, Jönköping\, Sverige
CATEGORIES:Barn
GEO:57.7819831;14.1553961
X-APPLE-STRUCTURED-LOCATION;VALUE=URI;X-ADDRESS=Pingstkyrkan Jönköping Västra torget Lagermansgatan 1 Jönköping Sverige;X-APPLE-RADIUS=500;X-TITLE=Västra torget\, Lagermansgatan 1:geo:14.1553961,57.7819831
END:VEVENT
BEGIN:VEVENT
DTSTART;TZID=Europe/Stockholm:20260123T180000
DTEND;TZID=Europe/Stockholm:20260123T190000
DTSTAMP:20260425T173555
CREATED:20260123T145603Z
LAST-MODIFIED:20260123T145603Z
UID:10010758-1769191200-1769194800@pingstjonkoping.se
SUMMARY:Tid för stillhet
DESCRIPTION:En timmes gudstjänst med stilla lovsång\, sång och nattvard.
URL:https://pingstjonkoping.se/kalender/tid-for-stillhet-4/
LOCATION:Pingstkyrkan\, Jönköping\, Västra torget\, Lagermansgatan 1\, Jönköping\, Sverige
GEO:57.7819831;14.1553961
X-APPLE-STRUCTURED-LOCATION;VALUE=URI;X-ADDRESS=Pingstkyrkan Jönköping Västra torget Lagermansgatan 1 Jönköping Sverige;X-APPLE-RADIUS=500;X-TITLE=Västra torget\, Lagermansgatan 1:geo:14.1553961,57.7819831
END:VEVENT
BEGIN:VEVENT
DTSTART;TZID=Europe/Stockholm:20260123T120000
DTEND;TZID=Europe/Stockholm:20260123T150000
DTSTAMP:20260425T173555
CREATED:20251216T140320Z
LAST-MODIFIED:20260213T092931Z
UID:10010142-1769169600-1769180400@pingstjonkoping.se
SUMMARY:Hänggänget (LPhäng)
DESCRIPTION:Kom och dela livet tillsammans. \nTa med lunch – Vi börjar med att äta ihop.
URL:https://pingstjonkoping.se/kalender/hangganget-lphang/2026-01-23/
LOCATION:Pingstkyrkan\, Jönköping\, Västra torget\, Lagermansgatan 1\, Jönköping\, Sverige
GEO:57.7819831;14.1553961
X-APPLE-STRUCTURED-LOCATION;VALUE=URI;X-ADDRESS=Pingstkyrkan Jönköping Västra torget Lagermansgatan 1 Jönköping Sverige;X-APPLE-RADIUS=500;X-TITLE=Västra torget\, Lagermansgatan 1:geo:14.1553961,57.7819831
END:VEVENT
BEGIN:VEVENT
DTSTART;VALUE=DATE:20260123
DTEND;VALUE=DATE:20260125
DTSTAMP:20260425T173555
CREATED:20251216T144318Z
LAST-MODIFIED:20251216T144318Z
UID:10010699-1769126400-1769299199@pingstjonkoping.se
SUMMARY:Alla folk - missionskonferens i Kungsporten
DESCRIPTION:Missionskonferens i Kungsportenskyrka. Anmälan via: allafolk.nu
URL:https://pingstjonkoping.se/kalender/alla-folk-missionskonferens-i-kungsporten/
LOCATION:Pingstkyrkan\, Jönköping\, Västra torget\, Lagermansgatan 1\, Jönköping\, Sverige
CATEGORIES:International
GEO:57.7819831;14.1553961
X-APPLE-STRUCTURED-LOCATION;VALUE=URI;X-ADDRESS=Pingstkyrkan Jönköping Västra torget Lagermansgatan 1 Jönköping Sverige;X-APPLE-RADIUS=500;X-TITLE=Västra torget\, Lagermansgatan 1:geo:14.1553961,57.7819831
END:VEVENT
BEGIN:VEVENT
DTSTART;TZID=Europe/Stockholm:20260122T183000
DTEND;TZID=Europe/Stockholm:20260122T193000
DTSTAMP:20260425T173555
CREATED:20250226T155654Z
LAST-MODIFIED:20260422T144414Z
UID:10009760-1769106600-1769110200@pingstjonkoping.se
SUMMARY:Bön/ Bibelläsning
DESCRIPTION:
URL:https://pingstjonkoping.se/kalender/bon-8/2026-01-22/
LOCATION:Pingstkyrkan\, Jönköping\, Västra torget\, Lagermansgatan 1\, Jönköping\, Sverige
CATEGORIES:Bön
GEO:57.7819831;14.1553961
X-APPLE-STRUCTURED-LOCATION;VALUE=URI;X-ADDRESS=Pingstkyrkan Jönköping Västra torget Lagermansgatan 1 Jönköping Sverige;X-APPLE-RADIUS=500;X-TITLE=Västra torget\, Lagermansgatan 1:geo:14.1553961,57.7819831
END:VEVENT
BEGIN:VEVENT
DTSTART;TZID=Europe/Stockholm:20260122T170000
DTEND;TZID=Europe/Stockholm:20260122T183000
DTSTAMP:20260425T173555
CREATED:20251216T143928Z
LAST-MODIFIED:20260422T143815Z
UID:10010676-1769101200-1769106600@pingstjonkoping.se
SUMMARY:Café hela världen
DESCRIPTION:gemenskap och fika
URL:https://pingstjonkoping.se/kalender/cafe-hela-varlden/2026-01-22/
LOCATION:Pingstkyrkan\, Jönköping\, Västra torget\, Lagermansgatan 1\, Jönköping\, Sverige
GEO:57.7819831;14.1553961
X-APPLE-STRUCTURED-LOCATION;VALUE=URI;X-ADDRESS=Pingstkyrkan Jönköping Västra torget Lagermansgatan 1 Jönköping Sverige;X-APPLE-RADIUS=500;X-TITLE=Västra torget\, Lagermansgatan 1:geo:14.1553961,57.7819831
END:VEVENT
BEGIN:VEVENT
DTSTART;TZID=Europe/Stockholm:20260122T100000
DTEND;TZID=Europe/Stockholm:20260122T120000
DTSTAMP:20260425T173555
CREATED:20251216T143026Z
LAST-MODIFIED:20260123T150412Z
UID:10010657-1769076000-1769083200@pingstjonkoping.se
SUMMARY:Öppna förskolan
DESCRIPTION:
URL:https://pingstjonkoping.se/kalender/oppna-forskolan/2026-01-22/
LOCATION:Pingstkyrkan\, Jönköping\, Västra torget\, Lagermansgatan 1\, Jönköping\, Sverige
CATEGORIES:Barn
GEO:57.7819831;14.1553961
X-APPLE-STRUCTURED-LOCATION;VALUE=URI;X-ADDRESS=Pingstkyrkan Jönköping Västra torget Lagermansgatan 1 Jönköping Sverige;X-APPLE-RADIUS=500;X-TITLE=Västra torget\, Lagermansgatan 1:geo:14.1553961,57.7819831
END:VEVENT
BEGIN:VEVENT
DTSTART;TZID=Europe/Stockholm:20260121T183000
DTEND;TZID=Europe/Stockholm:20260121T210000
DTSTAMP:20260425T173555
CREATED:20251216T142918Z
LAST-MODIFIED:20251216T142918Z
UID:10010656-1769020200-1769029200@pingstjonkoping.se
SUMMARY:Prova på Alpha
DESCRIPTION:
URL:https://pingstjonkoping.se/kalender/prova-pa-alpha/
LOCATION:Pingstkyrkan\, Jönköping\, Västra torget\, Lagermansgatan 1\, Jönköping\, Sverige
GEO:57.7819831;14.1553961
X-APPLE-STRUCTURED-LOCATION;VALUE=URI;X-ADDRESS=Pingstkyrkan Jönköping Västra torget Lagermansgatan 1 Jönköping Sverige;X-APPLE-RADIUS=500;X-TITLE=Västra torget\, Lagermansgatan 1:geo:14.1553961,57.7819831
END:VEVENT
BEGIN:VEVENT
DTSTART;TZID=Europe/Stockholm:20260121T140000
DTEND;TZID=Europe/Stockholm:20260121T160000
DTSTAMP:20260425T173555
CREATED:20251216T142847Z
LAST-MODIFIED:20251216T142847Z
UID:10010655-1769004000-1769011200@pingstjonkoping.se
SUMMARY:Torget 60+/RPG
DESCRIPTION:”Alla dessa längtans dagar” med Margareta Andermo\, radiojournalist\, författare och missionärsbarn. Sång: Berit Carlström.
URL:https://pingstjonkoping.se/kalender/torget-60-rpg/
LOCATION:Pingstkyrkan\, Jönköping\, Västra torget\, Lagermansgatan 1\, Jönköping\, Sverige
CATEGORIES:Senior
GEO:57.7819831;14.1553961
X-APPLE-STRUCTURED-LOCATION;VALUE=URI;X-ADDRESS=Pingstkyrkan Jönköping Västra torget Lagermansgatan 1 Jönköping Sverige;X-APPLE-RADIUS=500;X-TITLE=Västra torget\, Lagermansgatan 1:geo:14.1553961,57.7819831
END:VEVENT
BEGIN:VEVENT
DTSTART;TZID=Europe/Stockholm:20260121T100000
DTEND;TZID=Europe/Stockholm:20260121T120000
DTSTAMP:20260425T173555
CREATED:20251216T142734Z
LAST-MODIFIED:20260121T103339Z
UID:10010634-1768989600-1768996800@pingstjonkoping.se
SUMMARY:Kvinna
DESCRIPTION:gemenskap och skapande
URL:https://pingstjonkoping.se/kalender/kvinna/2026-01-21/
LOCATION:Pingstkyrkan\, Jönköping\, Västra torget\, Lagermansgatan 1\, Jönköping\, Sverige
CATEGORIES:Kvinnor
GEO:57.7819831;14.1553961
X-APPLE-STRUCTURED-LOCATION;VALUE=URI;X-ADDRESS=Pingstkyrkan Jönköping Västra torget Lagermansgatan 1 Jönköping Sverige;X-APPLE-RADIUS=500;X-TITLE=Västra torget\, Lagermansgatan 1:geo:14.1553961,57.7819831
END:VEVENT
BEGIN:VEVENT
DTSTART;TZID=Europe/Stockholm:20260120T190000
DTEND;TZID=Europe/Stockholm:20260120T203000
DTSTAMP:20260425T173555
CREATED:20251216T142510Z
LAST-MODIFIED:20260121T103335Z
UID:10010624-1768935600-1768941000@pingstjonkoping.se
SUMMARY:Unga vuxna
DESCRIPTION:
URL:https://pingstjonkoping.se/kalender/unga-vuxna/2026-01-20/
LOCATION:Pingstkyrkan\, Jönköping\, Västra torget\, Lagermansgatan 1\, Jönköping\, Sverige
GEO:57.7819831;14.1553961
X-APPLE-STRUCTURED-LOCATION;VALUE=URI;X-ADDRESS=Pingstkyrkan Jönköping Västra torget Lagermansgatan 1 Jönköping Sverige;X-APPLE-RADIUS=500;X-TITLE=Västra torget\, Lagermansgatan 1:geo:14.1553961,57.7819831
END:VEVENT
BEGIN:VEVENT
DTSTART;TZID=Europe/Stockholm:20260120T110000
DTEND;TZID=Europe/Stockholm:20260120T120000
DTSTAMP:20260425T173555
CREATED:20251216T140049Z
LAST-MODIFIED:20251216T140049Z
UID:10010120-1768906800-1768910400@pingstjonkoping.se
SUMMARY:Bön
DESCRIPTION:
URL:https://pingstjonkoping.se/kalender/bon-3/2026-01-20/
LOCATION:Pingstkyrkan\, Jönköping\, Västra torget\, Lagermansgatan 1\, Jönköping\, Sverige
CATEGORIES:Bön
GEO:57.7819831;14.1553961
X-APPLE-STRUCTURED-LOCATION;VALUE=URI;X-ADDRESS=Pingstkyrkan Jönköping Västra torget Lagermansgatan 1 Jönköping Sverige;X-APPLE-RADIUS=500;X-TITLE=Västra torget\, Lagermansgatan 1:geo:14.1553961,57.7819831
END:VEVENT
BEGIN:VEVENT
DTSTART;TZID=Europe/Stockholm:20260118T180000
DTEND;TZID=Europe/Stockholm:20260118T193000
DTSTAMP:20260425T173555
CREATED:20251216T142312Z
LAST-MODIFIED:20251216T142312Z
UID:10010605-1768759200-1768764600@pingstjonkoping.se
SUMMARY:Ekumenisk gudstjänst i Frälsningsarmén
DESCRIPTION:Gemensam bönekväll med staden i Frälsningsarméns lokaler.
URL:https://pingstjonkoping.se/kalender/ekumenisk-gudstjanst-i-fralsningsarmen/
LOCATION:Pingstkyrkan\, Jönköping\, Västra torget\, Lagermansgatan 1\, Jönköping\, Sverige
CATEGORIES:Bön
GEO:57.7819831;14.1553961
X-APPLE-STRUCTURED-LOCATION;VALUE=URI;X-ADDRESS=Pingstkyrkan Jönköping Västra torget Lagermansgatan 1 Jönköping Sverige;X-APPLE-RADIUS=500;X-TITLE=Västra torget\, Lagermansgatan 1:geo:14.1553961,57.7819831
END:VEVENT
BEGIN:VEVENT
DTSTART;TZID=Europe/Stockholm:20260118T103000
DTEND;TZID=Europe/Stockholm:20260118T120000
DTSTAMP:20260425T173555
CREATED:20251216T141752Z
LAST-MODIFIED:20260116T102440Z
UID:10010561-1768732200-1768737600@pingstjonkoping.se
SUMMARY:Gudstjänst
DESCRIPTION:Söndagsklubben. Predikan: Bengt Klingberg \nMusik: Tobias Sandqvist med team.
URL:https://pingstjonkoping.se/kalender/gudstjanst/
LOCATION:Pingstkyrkan\, Jönköping\, Västra torget\, Lagermansgatan 1\, Jönköping\, Sverige
GEO:57.7819831;14.1553961
X-APPLE-STRUCTURED-LOCATION;VALUE=URI;X-ADDRESS=Pingstkyrkan Jönköping Västra torget Lagermansgatan 1 Jönköping Sverige;X-APPLE-RADIUS=500;X-TITLE=Västra torget\, Lagermansgatan 1:geo:14.1553961,57.7819831
END:VEVENT
BEGIN:VEVENT
DTSTART;TZID=Europe/Stockholm:20260116T193000
DTEND;TZID=Europe/Stockholm:20260116T233000
DTSTAMP:20260425T173555
CREATED:20251216T142159Z
LAST-MODIFIED:20260213T093209Z
UID:10010586-1768591800-1768606200@pingstjonkoping.se
SUMMARY:ONE
DESCRIPTION:för ungdomar 13+
URL:https://pingstjonkoping.se/kalender/one/2026-01-16/
LOCATION:Pingstkyrkan\, Jönköping\, Västra torget\, Lagermansgatan 1\, Jönköping\, Sverige
CATEGORIES:Ungdom
GEO:57.7819831;14.1553961
X-APPLE-STRUCTURED-LOCATION;VALUE=URI;X-ADDRESS=Pingstkyrkan Jönköping Västra torget Lagermansgatan 1 Jönköping Sverige;X-APPLE-RADIUS=500;X-TITLE=Västra torget\, Lagermansgatan 1:geo:14.1553961,57.7819831
END:VEVENT
BEGIN:VEVENT
DTSTART;TZID=Europe/Stockholm:20260116T180000
DTEND;TZID=Europe/Stockholm:20260116T193000
DTSTAMP:20260425T173555
CREATED:20251216T142419Z
LAST-MODIFIED:20260217T094544Z
UID:10010567-1768586400-1768591800@pingstjonkoping.se
SUMMARY:Hänget
DESCRIPTION:för dig i årsk 4-6
URL:https://pingstjonkoping.se/kalender/hanget-4/2026-01-16/
LOCATION:Pingstkyrkan\, Jönköping\, Västra torget\, Lagermansgatan 1\, Jönköping\, Sverige
CATEGORIES:Barn
GEO:57.7819831;14.1553961
X-APPLE-STRUCTURED-LOCATION;VALUE=URI;X-ADDRESS=Pingstkyrkan Jönköping Västra torget Lagermansgatan 1 Jönköping Sverige;X-APPLE-RADIUS=500;X-TITLE=Västra torget\, Lagermansgatan 1:geo:14.1553961,57.7819831
END:VEVENT
BEGIN:VEVENT
DTSTART;TZID=Europe/Stockholm:20260116T120000
DTEND;TZID=Europe/Stockholm:20260116T150000
DTSTAMP:20260425T173555
CREATED:20251216T140320Z
LAST-MODIFIED:20260213T092931Z
UID:10010141-1768564800-1768575600@pingstjonkoping.se
SUMMARY:Hänggänget (LPhäng)
DESCRIPTION:Kom och dela livet tillsammans. \nTa med lunch – Vi börjar med att äta ihop.
URL:https://pingstjonkoping.se/kalender/hangganget-lphang/2026-01-16/
LOCATION:Pingstkyrkan\, Jönköping\, Västra torget\, Lagermansgatan 1\, Jönköping\, Sverige
GEO:57.7819831;14.1553961
X-APPLE-STRUCTURED-LOCATION;VALUE=URI;X-ADDRESS=Pingstkyrkan Jönköping Västra torget Lagermansgatan 1 Jönköping Sverige;X-APPLE-RADIUS=500;X-TITLE=Västra torget\, Lagermansgatan 1:geo:14.1553961,57.7819831
END:VEVENT
BEGIN:VEVENT
DTSTART;TZID=Europe/Stockholm:20260115T183000
DTEND;TZID=Europe/Stockholm:20260115T193000
DTSTAMP:20260425T173555
CREATED:20251216T141239Z
LAST-MODIFIED:20260113T084945Z
UID:10010705-1768501800-1768505400@pingstjonkoping.se
SUMMARY:Kvällsbön
DESCRIPTION:lovsång & tillbedjan\, bönestationer\, betjäning.
URL:https://pingstjonkoping.se/kalender/kvallsbon/2026-01-15/
LOCATION:Pingstkyrkan\, Jönköping\, Västra torget\, Lagermansgatan 1\, Jönköping\, Sverige
CATEGORIES:Bön
GEO:57.7819831;14.1553961
X-APPLE-STRUCTURED-LOCATION;VALUE=URI;X-ADDRESS=Pingstkyrkan Jönköping Västra torget Lagermansgatan 1 Jönköping Sverige;X-APPLE-RADIUS=500;X-TITLE=Västra torget\, Lagermansgatan 1:geo:14.1553961,57.7819831
END:VEVENT
BEGIN:VEVENT
DTSTART;TZID=Europe/Stockholm:20260115T140000
DTEND;TZID=Europe/Stockholm:20260115T160000
DTSTAMP:20260425T173555
CREATED:20251216T141408Z
LAST-MODIFIED:20251216T141408Z
UID:10010541-1768485600-1768492800@pingstjonkoping.se
SUMMARY:Stickcafé
DESCRIPTION:vi stickar för missionen
URL:https://pingstjonkoping.se/kalender/stickcafe/2026-01-15/
LOCATION:Pingstkyrkan\, Jönköping\, Västra torget\, Lagermansgatan 1\, Jönköping\, Sverige
GEO:57.7819831;14.1553961
X-APPLE-STRUCTURED-LOCATION;VALUE=URI;X-ADDRESS=Pingstkyrkan Jönköping Västra torget Lagermansgatan 1 Jönköping Sverige;X-APPLE-RADIUS=500;X-TITLE=Västra torget\, Lagermansgatan 1:geo:14.1553961,57.7819831
END:VEVENT
END:VCALENDAR