BEGIN:VCALENDAR
VERSION:2.0
PRODID:-//Pingst Jönköping - ECPv6.15.20//NONSGML v1.0//EN
CALSCALE:GREGORIAN
METHOD:PUBLISH
X-WR-CALNAME:Pingst Jönköping
X-ORIGINAL-URL:https://pingstjonkoping.se
X-WR-CALDESC:Händelser för Pingst Jönköping
REFRESH-INTERVAL;VALUE=DURATION:PT1H
X-Robots-Tag:noindex
X-PUBLISHED-TTL:PT1H
BEGIN:VTIMEZONE
TZID:Europe/Stockholm
BEGIN:DAYLIGHT
TZOFFSETFROM:+0100
TZOFFSETTO:+0200
TZNAME:CEST
DTSTART:20250330T010000
END:DAYLIGHT
BEGIN:STANDARD
TZOFFSETFROM:+0200
TZOFFSETTO:+0100
TZNAME:CET
DTSTART:20251026T010000
END:STANDARD
BEGIN:DAYLIGHT
TZOFFSETFROM:+0100
TZOFFSETTO:+0200
TZNAME:CEST
DTSTART:20260329T010000
END:DAYLIGHT
BEGIN:STANDARD
TZOFFSETFROM:+0200
TZOFFSETTO:+0100
TZNAME:CET
DTSTART:20261025T010000
END:STANDARD
BEGIN:DAYLIGHT
TZOFFSETFROM:+0100
TZOFFSETTO:+0200
TZNAME:CEST
DTSTART:20270328T010000
END:DAYLIGHT
BEGIN:STANDARD
TZOFFSETFROM:+0200
TZOFFSETTO:+0100
TZNAME:CET
DTSTART:20271031T010000
END:STANDARD
END:VTIMEZONE
BEGIN:VEVENT
DTSTART;TZID=Europe/Stockholm:20260428T110000
DTEND;TZID=Europe/Stockholm:20260428T120000
DTSTAMP:20260425T173609
CREATED:20251216T140049Z
LAST-MODIFIED:20251216T140049Z
UID:10010134-1777374000-1777377600@pingstjonkoping.se
SUMMARY:Bön
DESCRIPTION:
URL:https://pingstjonkoping.se/kalender/bon-3/2026-04-28/
LOCATION:Pingstkyrkan\, Jönköping\, Västra torget\, Lagermansgatan 1\, Jönköping\, Sverige
CATEGORIES:Bön
GEO:57.7819831;14.1553961
X-APPLE-STRUCTURED-LOCATION;VALUE=URI;X-ADDRESS=Pingstkyrkan Jönköping Västra torget Lagermansgatan 1 Jönköping Sverige;X-APPLE-RADIUS=500;X-TITLE=Västra torget\, Lagermansgatan 1:geo:14.1553961,57.7819831
END:VEVENT
BEGIN:VEVENT
DTSTART;TZID=Europe/Stockholm:20260428T190000
DTEND;TZID=Europe/Stockholm:20260428T203000
DTSTAMP:20260425T173609
CREATED:20251216T142510Z
LAST-MODIFIED:20260121T103335Z
UID:10010631-1777402800-1777408200@pingstjonkoping.se
SUMMARY:Unga vuxna
DESCRIPTION:
URL:https://pingstjonkoping.se/kalender/unga-vuxna/2026-04-28/
LOCATION:Pingstkyrkan\, Jönköping\, Västra torget\, Lagermansgatan 1\, Jönköping\, Sverige
GEO:57.7819831;14.1553961
X-APPLE-STRUCTURED-LOCATION;VALUE=URI;X-ADDRESS=Pingstkyrkan Jönköping Västra torget Lagermansgatan 1 Jönköping Sverige;X-APPLE-RADIUS=500;X-TITLE=Västra torget\, Lagermansgatan 1:geo:14.1553961,57.7819831
END:VEVENT
BEGIN:VEVENT
DTSTART;TZID=Europe/Stockholm:20260429T100000
DTEND;TZID=Europe/Stockholm:20260429T120000
DTSTAMP:20260425T173609
CREATED:20251216T142734Z
LAST-MODIFIED:20260121T103339Z
UID:10010648-1777456800-1777464000@pingstjonkoping.se
SUMMARY:Kvinna
DESCRIPTION:gemenskap och skapande
URL:https://pingstjonkoping.se/kalender/kvinna/2026-04-29/
LOCATION:Pingstkyrkan\, Jönköping\, Västra torget\, Lagermansgatan 1\, Jönköping\, Sverige
CATEGORIES:Kvinnor
GEO:57.7819831;14.1553961
X-APPLE-STRUCTURED-LOCATION;VALUE=URI;X-ADDRESS=Pingstkyrkan Jönköping Västra torget Lagermansgatan 1 Jönköping Sverige;X-APPLE-RADIUS=500;X-TITLE=Västra torget\, Lagermansgatan 1:geo:14.1553961,57.7819831
END:VEVENT
BEGIN:VEVENT
DTSTART;TZID=Europe/Stockholm:20260429T140000
DTEND;TZID=Europe/Stockholm:20260429T160000
DTSTAMP:20260425T173609
CREATED:20260123T145732Z
LAST-MODIFIED:20260123T145732Z
UID:10010759-1777471200-1777478400@pingstjonkoping.se
SUMMARY:Torget60+/RPG
DESCRIPTION:”Med pärlor i bagaget” med Marianne Enell\, Tranås.
URL:https://pingstjonkoping.se/kalender/torget60-rpg-4/
LOCATION:Pingstkyrkan\, Jönköping\, Västra torget\, Lagermansgatan 1\, Jönköping\, Sverige
CATEGORIES:Senior
GEO:57.7819831;14.1553961
X-APPLE-STRUCTURED-LOCATION;VALUE=URI;X-ADDRESS=Pingstkyrkan Jönköping Västra torget Lagermansgatan 1 Jönköping Sverige;X-APPLE-RADIUS=500;X-TITLE=Västra torget\, Lagermansgatan 1:geo:14.1553961,57.7819831
END:VEVENT
BEGIN:VEVENT
DTSTART;TZID=Europe/Stockholm:20260430T100000
DTEND;TZID=Europe/Stockholm:20260430T120000
DTSTAMP:20260425T173609
CREATED:20251216T143026Z
LAST-MODIFIED:20260123T150412Z
UID:10010671-1777543200-1777550400@pingstjonkoping.se
SUMMARY:Öppna förskolan
DESCRIPTION:
URL:https://pingstjonkoping.se/kalender/oppna-forskolan/2026-04-30/
LOCATION:Pingstkyrkan\, Jönköping\, Västra torget\, Lagermansgatan 1\, Jönköping\, Sverige
CATEGORIES:Barn
GEO:57.7819831;14.1553961
X-APPLE-STRUCTURED-LOCATION;VALUE=URI;X-ADDRESS=Pingstkyrkan Jönköping Västra torget Lagermansgatan 1 Jönköping Sverige;X-APPLE-RADIUS=500;X-TITLE=Västra torget\, Lagermansgatan 1:geo:14.1553961,57.7819831
END:VEVENT
BEGIN:VEVENT
DTSTART;TZID=Europe/Stockholm:20260501T093000
DTEND;TZID=Europe/Stockholm:20260501T120000
DTSTAMP:20260425T173609
CREATED:20260422T143559Z
LAST-MODIFIED:20260422T143559Z
UID:10010789-1777627800-1777636800@pingstjonkoping.se
SUMMARY:MC-avrostning
DESCRIPTION:vi ses vid kyrkans entré
URL:https://pingstjonkoping.se/kalender/mc-avrostning-2/
LOCATION:Pingstkyrkan\, Jönköping\, Västra torget\, Lagermansgatan 1\, Jönköping\, Sverige
GEO:57.7819831;14.1553961
X-APPLE-STRUCTURED-LOCATION;VALUE=URI;X-ADDRESS=Pingstkyrkan Jönköping Västra torget Lagermansgatan 1 Jönköping Sverige;X-APPLE-RADIUS=500;X-TITLE=Västra torget\, Lagermansgatan 1:geo:14.1553961,57.7819831
END:VEVENT
BEGIN:VEVENT
DTSTART;TZID=Europe/Stockholm:20260501T120000
DTEND;TZID=Europe/Stockholm:20260501T150000
DTSTAMP:20260425T173609
CREATED:20251216T140320Z
LAST-MODIFIED:20260213T092931Z
UID:10010156-1777636800-1777647600@pingstjonkoping.se
SUMMARY:Hänggänget (LPhäng)
DESCRIPTION:Kom och dela livet tillsammans. \nTa med lunch – Vi börjar med att äta ihop.
URL:https://pingstjonkoping.se/kalender/hangganget-lphang/2026-05-01/
LOCATION:Pingstkyrkan\, Jönköping\, Västra torget\, Lagermansgatan 1\, Jönköping\, Sverige
GEO:57.7819831;14.1553961
X-APPLE-STRUCTURED-LOCATION;VALUE=URI;X-ADDRESS=Pingstkyrkan Jönköping Västra torget Lagermansgatan 1 Jönköping Sverige;X-APPLE-RADIUS=500;X-TITLE=Västra torget\, Lagermansgatan 1:geo:14.1553961,57.7819831
END:VEVENT
BEGIN:VEVENT
DTSTART;TZID=Europe/Stockholm:20260501T180000
DTEND;TZID=Europe/Stockholm:20260501T193000
DTSTAMP:20260425T173609
CREATED:20260422T144146Z
LAST-MODIFIED:20260422T144146Z
UID:10010792-1777658400-1777663800@pingstjonkoping.se
SUMMARY:Hänget
DESCRIPTION:för barn i mellanstadiet
URL:https://pingstjonkoping.se/kalender/hanget-5/
LOCATION:Pingstkyrkan\, Jönköping\, Västra torget\, Lagermansgatan 1\, Jönköping\, Sverige
CATEGORIES:Barn
GEO:57.7819831;14.1553961
X-APPLE-STRUCTURED-LOCATION;VALUE=URI;X-ADDRESS=Pingstkyrkan Jönköping Västra torget Lagermansgatan 1 Jönköping Sverige;X-APPLE-RADIUS=500;X-TITLE=Västra torget\, Lagermansgatan 1:geo:14.1553961,57.7819831
END:VEVENT
BEGIN:VEVENT
DTSTART;TZID=Europe/Stockholm:20260501T193000
DTEND;TZID=Europe/Stockholm:20260501T233000
DTSTAMP:20260425T173609
CREATED:20251216T142159Z
LAST-MODIFIED:20260213T093209Z
UID:10010599-1777663800-1777678200@pingstjonkoping.se
SUMMARY:ONE
DESCRIPTION:för ungdomar 13+
URL:https://pingstjonkoping.se/kalender/one/2026-05-01/
LOCATION:Pingstkyrkan\, Jönköping\, Västra torget\, Lagermansgatan 1\, Jönköping\, Sverige
CATEGORIES:Ungdom
GEO:57.7819831;14.1553961
X-APPLE-STRUCTURED-LOCATION;VALUE=URI;X-ADDRESS=Pingstkyrkan Jönköping Västra torget Lagermansgatan 1 Jönköping Sverige;X-APPLE-RADIUS=500;X-TITLE=Västra torget\, Lagermansgatan 1:geo:14.1553961,57.7819831
END:VEVENT
BEGIN:VEVENT
DTSTART;TZID=Europe/Stockholm:20260502T100000
DTEND;TZID=Europe/Stockholm:20260502T120000
DTSTAMP:20260425T173609
CREATED:20260422T143720Z
LAST-MODIFIED:20260422T143720Z
UID:10010791-1777716000-1777723200@pingstjonkoping.se
SUMMARY:Unga vuxna - vandring
DESCRIPTION:Vandring- anmälan: instagram: @ungavuxnapingst 
URL:https://pingstjonkoping.se/kalender/unga-vuxna-vandring/
LOCATION:Pingstkyrkan\, Jönköping\, Västra torget\, Lagermansgatan 1\, Jönköping\, Sverige
GEO:57.7819831;14.1553961
X-APPLE-STRUCTURED-LOCATION;VALUE=URI;X-ADDRESS=Pingstkyrkan Jönköping Västra torget Lagermansgatan 1 Jönköping Sverige;X-APPLE-RADIUS=500;X-TITLE=Västra torget\, Lagermansgatan 1:geo:14.1553961,57.7819831
END:VEVENT
BEGIN:VEVENT
DTSTART;TZID=Europe/Stockholm:20260503T103000
DTEND;TZID=Europe/Stockholm:20260503T120000
DTSTAMP:20260425T173609
CREATED:20260123T145904Z
LAST-MODIFIED:20260327T131342Z
UID:10010760-1777804200-1777809600@pingstjonkoping.se
SUMMARY:Gudstjänst
DESCRIPTION:Söndagsklubben. Predikan: Samuel Westergren. \nHoppet om att han kommer tillbaka (del 4). Nattvard \nSöndagsklubben. Musik: Församlingskören.
URL:https://pingstjonkoping.se/kalender/gudstjanst-13/
LOCATION:Pingstkyrkan\, Jönköping\, Västra torget\, Lagermansgatan 1\, Jönköping\, Sverige
GEO:57.7819831;14.1553961
X-APPLE-STRUCTURED-LOCATION;VALUE=URI;X-ADDRESS=Pingstkyrkan Jönköping Västra torget Lagermansgatan 1 Jönköping Sverige;X-APPLE-RADIUS=500;X-TITLE=Västra torget\, Lagermansgatan 1:geo:14.1553961,57.7819831
END:VEVENT
BEGIN:VEVENT
DTSTART;TZID=Europe/Stockholm:20260505T110000
DTEND;TZID=Europe/Stockholm:20260505T120000
DTSTAMP:20260425T173609
CREATED:20251216T140049Z
LAST-MODIFIED:20251216T140049Z
UID:10010135-1777978800-1777982400@pingstjonkoping.se
SUMMARY:Bön
DESCRIPTION:
URL:https://pingstjonkoping.se/kalender/bon-3/2026-05-05/
LOCATION:Pingstkyrkan\, Jönköping\, Västra torget\, Lagermansgatan 1\, Jönköping\, Sverige
CATEGORIES:Bön
GEO:57.7819831;14.1553961
X-APPLE-STRUCTURED-LOCATION;VALUE=URI;X-ADDRESS=Pingstkyrkan Jönköping Västra torget Lagermansgatan 1 Jönköping Sverige;X-APPLE-RADIUS=500;X-TITLE=Västra torget\, Lagermansgatan 1:geo:14.1553961,57.7819831
END:VEVENT
BEGIN:VEVENT
DTSTART;TZID=Europe/Stockholm:20260506T100000
DTEND;TZID=Europe/Stockholm:20260506T120000
DTSTAMP:20260425T173609
CREATED:20251216T142734Z
LAST-MODIFIED:20260121T103339Z
UID:10010649-1778061600-1778068800@pingstjonkoping.se
SUMMARY:Kvinna
DESCRIPTION:gemenskap och skapande
URL:https://pingstjonkoping.se/kalender/kvinna/2026-05-06/
LOCATION:Pingstkyrkan\, Jönköping\, Västra torget\, Lagermansgatan 1\, Jönköping\, Sverige
CATEGORIES:Kvinnor
GEO:57.7819831;14.1553961
X-APPLE-STRUCTURED-LOCATION;VALUE=URI;X-ADDRESS=Pingstkyrkan Jönköping Västra torget Lagermansgatan 1 Jönköping Sverige;X-APPLE-RADIUS=500;X-TITLE=Västra torget\, Lagermansgatan 1:geo:14.1553961,57.7819831
END:VEVENT
BEGIN:VEVENT
DTSTART;TZID=Europe/Stockholm:20260506T103000
DTEND;TZID=Europe/Stockholm:20260506T113000
DTSTAMP:20260425T173609
CREATED:20251216T141713Z
LAST-MODIFIED:20251216T141713Z
UID:10010559-1778063400-1778067000@pingstjonkoping.se
SUMMARY:Träningsgrupp för äldre
DESCRIPTION:
URL:https://pingstjonkoping.se/kalender/traningsgrupp-for-aldre/2026-05-06/
LOCATION:Pingstkyrkan\, Jönköping\, Västra torget\, Lagermansgatan 1\, Jönköping\, Sverige
CATEGORIES:Senior
GEO:57.7819831;14.1553961
X-APPLE-STRUCTURED-LOCATION;VALUE=URI;X-ADDRESS=Pingstkyrkan Jönköping Västra torget Lagermansgatan 1 Jönköping Sverige;X-APPLE-RADIUS=500;X-TITLE=Västra torget\, Lagermansgatan 1:geo:14.1553961,57.7819831
END:VEVENT
BEGIN:VEVENT
DTSTART;TZID=Europe/Stockholm:20260507T100000
DTEND;TZID=Europe/Stockholm:20260507T120000
DTSTAMP:20260425T173609
CREATED:20251216T143026Z
LAST-MODIFIED:20260123T150412Z
UID:10010672-1778148000-1778155200@pingstjonkoping.se
SUMMARY:Öppna förskolan
DESCRIPTION:
URL:https://pingstjonkoping.se/kalender/oppna-forskolan/2026-05-07/
LOCATION:Pingstkyrkan\, Jönköping\, Västra torget\, Lagermansgatan 1\, Jönköping\, Sverige
CATEGORIES:Barn
GEO:57.7819831;14.1553961
X-APPLE-STRUCTURED-LOCATION;VALUE=URI;X-ADDRESS=Pingstkyrkan Jönköping Västra torget Lagermansgatan 1 Jönköping Sverige;X-APPLE-RADIUS=500;X-TITLE=Västra torget\, Lagermansgatan 1:geo:14.1553961,57.7819831
END:VEVENT
BEGIN:VEVENT
DTSTART;TZID=Europe/Stockholm:20260507T140000
DTEND;TZID=Europe/Stockholm:20260507T160000
DTSTAMP:20260425T173609
CREATED:20251216T141408Z
LAST-MODIFIED:20251216T141408Z
UID:10010549-1778162400-1778169600@pingstjonkoping.se
SUMMARY:Stickcafé
DESCRIPTION:vi stickar för missionen
URL:https://pingstjonkoping.se/kalender/stickcafe/2026-05-07/
LOCATION:Pingstkyrkan\, Jönköping\, Västra torget\, Lagermansgatan 1\, Jönköping\, Sverige
GEO:57.7819831;14.1553961
X-APPLE-STRUCTURED-LOCATION;VALUE=URI;X-ADDRESS=Pingstkyrkan Jönköping Västra torget Lagermansgatan 1 Jönköping Sverige;X-APPLE-RADIUS=500;X-TITLE=Västra torget\, Lagermansgatan 1:geo:14.1553961,57.7819831
END:VEVENT
BEGIN:VEVENT
DTSTART;TZID=Europe/Stockholm:20260507T170000
DTEND;TZID=Europe/Stockholm:20260507T183000
DTSTAMP:20260425T173609
CREATED:20251216T143928Z
LAST-MODIFIED:20260422T143815Z
UID:10010690-1778173200-1778178600@pingstjonkoping.se
SUMMARY:Café hela världen
DESCRIPTION:gemenskap och fika
URL:https://pingstjonkoping.se/kalender/cafe-hela-varlden/2026-05-07/
LOCATION:Pingstkyrkan\, Jönköping\, Västra torget\, Lagermansgatan 1\, Jönköping\, Sverige
GEO:57.7819831;14.1553961
X-APPLE-STRUCTURED-LOCATION;VALUE=URI;X-ADDRESS=Pingstkyrkan Jönköping Västra torget Lagermansgatan 1 Jönköping Sverige;X-APPLE-RADIUS=500;X-TITLE=Västra torget\, Lagermansgatan 1:geo:14.1553961,57.7819831
END:VEVENT
BEGIN:VEVENT
DTSTART;TZID=Europe/Stockholm:20260507T183000
DTEND;TZID=Europe/Stockholm:20260507T193000
DTSTAMP:20260425T173609
CREATED:20260310T152305Z
LAST-MODIFIED:20260310T152305Z
UID:10010785-1778178600-1778182200@pingstjonkoping.se
SUMMARY:Lovsångskväll
DESCRIPTION:
URL:https://pingstjonkoping.se/kalender/lovsangskvall/2026-05-07/
LOCATION:Pingstkyrkan\, Jönköping\, Västra torget\, Lagermansgatan 1\, Jönköping\, Sverige
GEO:57.7819831;14.1553961
X-APPLE-STRUCTURED-LOCATION;VALUE=URI;X-ADDRESS=Pingstkyrkan Jönköping Västra torget Lagermansgatan 1 Jönköping Sverige;X-APPLE-RADIUS=500;X-TITLE=Västra torget\, Lagermansgatan 1:geo:14.1553961,57.7819831
END:VEVENT
BEGIN:VEVENT
DTSTART;TZID=Europe/Stockholm:20260508T120000
DTEND;TZID=Europe/Stockholm:20260508T150000
DTSTAMP:20260425T173609
CREATED:20251216T140320Z
LAST-MODIFIED:20260213T092931Z
UID:10010157-1778241600-1778252400@pingstjonkoping.se
SUMMARY:Hänggänget (LPhäng)
DESCRIPTION:Kom och dela livet tillsammans. \nTa med lunch – Vi börjar med att äta ihop.
URL:https://pingstjonkoping.se/kalender/hangganget-lphang/2026-05-08/
LOCATION:Pingstkyrkan\, Jönköping\, Västra torget\, Lagermansgatan 1\, Jönköping\, Sverige
GEO:57.7819831;14.1553961
X-APPLE-STRUCTURED-LOCATION;VALUE=URI;X-ADDRESS=Pingstkyrkan Jönköping Västra torget Lagermansgatan 1 Jönköping Sverige;X-APPLE-RADIUS=500;X-TITLE=Västra torget\, Lagermansgatan 1:geo:14.1553961,57.7819831
END:VEVENT
BEGIN:VEVENT
DTSTART;TZID=Europe/Stockholm:20260508T180000
DTEND;TZID=Europe/Stockholm:20260508T193000
DTSTAMP:20260425T173609
CREATED:20251216T142419Z
LAST-MODIFIED:20260217T094544Z
UID:10010619-1778263200-1778268600@pingstjonkoping.se
SUMMARY:Hänget
DESCRIPTION:för dig i årsk 4-6
URL:https://pingstjonkoping.se/kalender/hanget-4/2026-05-08/
LOCATION:Pingstkyrkan\, Jönköping\, Västra torget\, Lagermansgatan 1\, Jönköping\, Sverige
CATEGORIES:Barn
GEO:57.7819831;14.1553961
X-APPLE-STRUCTURED-LOCATION;VALUE=URI;X-ADDRESS=Pingstkyrkan Jönköping Västra torget Lagermansgatan 1 Jönköping Sverige;X-APPLE-RADIUS=500;X-TITLE=Västra torget\, Lagermansgatan 1:geo:14.1553961,57.7819831
END:VEVENT
BEGIN:VEVENT
DTSTART;TZID=Europe/Stockholm:20260508T180000
DTEND;TZID=Europe/Stockholm:20260508T193000
DTSTAMP:20260425T173609
CREATED:20260120T125415Z
LAST-MODIFIED:20260120T125415Z
UID:10010727-1778263200-1778268600@pingstjonkoping.se
SUMMARY:Lågstadiehäng
DESCRIPTION:för barn i förskoleklass-åk 3
URL:https://pingstjonkoping.se/kalender/lagstadiehang/2026-05-08/
LOCATION:Pingstkyrkan\, Jönköping\, Västra torget\, Lagermansgatan 1\, Jönköping\, Sverige
CATEGORIES:Barn
GEO:57.7819831;14.1553961
X-APPLE-STRUCTURED-LOCATION;VALUE=URI;X-ADDRESS=Pingstkyrkan Jönköping Västra torget Lagermansgatan 1 Jönköping Sverige;X-APPLE-RADIUS=500;X-TITLE=Västra torget\, Lagermansgatan 1:geo:14.1553961,57.7819831
END:VEVENT
BEGIN:VEVENT
DTSTART;TZID=Europe/Stockholm:20260508T193000
DTEND;TZID=Europe/Stockholm:20260508T233000
DTSTAMP:20260425T173609
CREATED:20251216T142159Z
LAST-MODIFIED:20260213T093209Z
UID:10010600-1778268600-1778283000@pingstjonkoping.se
SUMMARY:ONE
DESCRIPTION:för ungdomar 13+
URL:https://pingstjonkoping.se/kalender/one/2026-05-08/
LOCATION:Pingstkyrkan\, Jönköping\, Västra torget\, Lagermansgatan 1\, Jönköping\, Sverige
CATEGORIES:Ungdom
GEO:57.7819831;14.1553961
X-APPLE-STRUCTURED-LOCATION;VALUE=URI;X-ADDRESS=Pingstkyrkan Jönköping Västra torget Lagermansgatan 1 Jönköping Sverige;X-APPLE-RADIUS=500;X-TITLE=Västra torget\, Lagermansgatan 1:geo:14.1553961,57.7819831
END:VEVENT
BEGIN:VEVENT
DTSTART;TZID=Europe/Stockholm:20260509T120000
DTEND;TZID=Europe/Stockholm:20260509T140000
DTSTAMP:20260425T173609
CREATED:20260422T143639Z
LAST-MODIFIED:20260422T143639Z
UID:10010790-1778328000-1778335200@pingstjonkoping.se
SUMMARY:Singoalla utflykt
DESCRIPTION:till Vidablick. Mer info på pingstjonkoping.se/singoalla \nför ensamstående föräldrar och deras barn. 
URL:https://pingstjonkoping.se/kalender/singoalla-utflykt/
LOCATION:Pingstkyrkan\, Jönköping\, Västra torget\, Lagermansgatan 1\, Jönköping\, Sverige
GEO:57.7819831;14.1553961
X-APPLE-STRUCTURED-LOCATION;VALUE=URI;X-ADDRESS=Pingstkyrkan Jönköping Västra torget Lagermansgatan 1 Jönköping Sverige;X-APPLE-RADIUS=500;X-TITLE=Västra torget\, Lagermansgatan 1:geo:14.1553961,57.7819831
END:VEVENT
BEGIN:VEVENT
DTSTART;TZID=Europe/Stockholm:20260510T103000
DTEND;TZID=Europe/Stockholm:20260510T120000
DTSTAMP:20260425T173609
CREATED:20260123T150031Z
LAST-MODIFIED:20260123T150031Z
UID:10010761-1778409000-1778414400@pingstjonkoping.se
SUMMARY:Gudstjänst
DESCRIPTION:Predikotema: Hoppet om att han kommer tillbaka (del 5). Dop. Predikan: Marcus Ardenfors. Söndagsklubben.
URL:https://pingstjonkoping.se/kalender/gudstjanst-14/
LOCATION:Pingstkyrkan\, Jönköping\, Västra torget\, Lagermansgatan 1\, Jönköping\, Sverige
GEO:57.7819831;14.1553961
X-APPLE-STRUCTURED-LOCATION;VALUE=URI;X-ADDRESS=Pingstkyrkan Jönköping Västra torget Lagermansgatan 1 Jönköping Sverige;X-APPLE-RADIUS=500;X-TITLE=Västra torget\, Lagermansgatan 1:geo:14.1553961,57.7819831
END:VEVENT
BEGIN:VEVENT
DTSTART;TZID=Europe/Stockholm:20260510T180000
DTEND;TZID=Europe/Stockholm:20260510T193000
DTSTAMP:20260425T173609
CREATED:20260123T150055Z
LAST-MODIFIED:20260123T150055Z
UID:10010762-1778436000-1778441400@pingstjonkoping.se
SUMMARY:Stobönemöte
DESCRIPTION:I Pingst Jönköping\, tillsammans med\nKungsportskyrkan.
URL:https://pingstjonkoping.se/kalender/stobonemote/
LOCATION:Pingstkyrkan\, Jönköping\, Västra torget\, Lagermansgatan 1\, Jönköping\, Sverige
CATEGORIES:Bön
GEO:57.7819831;14.1553961
X-APPLE-STRUCTURED-LOCATION;VALUE=URI;X-ADDRESS=Pingstkyrkan Jönköping Västra torget Lagermansgatan 1 Jönköping Sverige;X-APPLE-RADIUS=500;X-TITLE=Västra torget\, Lagermansgatan 1:geo:14.1553961,57.7819831
END:VEVENT
BEGIN:VEVENT
DTSTART;TZID=Europe/Stockholm:20260512T110000
DTEND;TZID=Europe/Stockholm:20260512T120000
DTSTAMP:20260425T173609
CREATED:20251216T140049Z
LAST-MODIFIED:20251216T140049Z
UID:10010136-1778583600-1778587200@pingstjonkoping.se
SUMMARY:Bön
DESCRIPTION:
URL:https://pingstjonkoping.se/kalender/bon-3/2026-05-12/
LOCATION:Pingstkyrkan\, Jönköping\, Västra torget\, Lagermansgatan 1\, Jönköping\, Sverige
CATEGORIES:Bön
GEO:57.7819831;14.1553961
X-APPLE-STRUCTURED-LOCATION;VALUE=URI;X-ADDRESS=Pingstkyrkan Jönköping Västra torget Lagermansgatan 1 Jönköping Sverige;X-APPLE-RADIUS=500;X-TITLE=Västra torget\, Lagermansgatan 1:geo:14.1553961,57.7819831
END:VEVENT
BEGIN:VEVENT
DTSTART;TZID=Europe/Stockholm:20260512T190000
DTEND;TZID=Europe/Stockholm:20260512T203000
DTSTAMP:20260425T173609
CREATED:20251216T142510Z
LAST-MODIFIED:20260121T103335Z
UID:10010632-1778612400-1778617800@pingstjonkoping.se
SUMMARY:Unga vuxna
DESCRIPTION:
URL:https://pingstjonkoping.se/kalender/unga-vuxna/2026-05-12/
LOCATION:Pingstkyrkan\, Jönköping\, Västra torget\, Lagermansgatan 1\, Jönköping\, Sverige
GEO:57.7819831;14.1553961
X-APPLE-STRUCTURED-LOCATION;VALUE=URI;X-ADDRESS=Pingstkyrkan Jönköping Västra torget Lagermansgatan 1 Jönköping Sverige;X-APPLE-RADIUS=500;X-TITLE=Västra torget\, Lagermansgatan 1:geo:14.1553961,57.7819831
END:VEVENT
BEGIN:VEVENT
DTSTART;TZID=Europe/Stockholm:20260513T100000
DTEND;TZID=Europe/Stockholm:20260513T120000
DTSTAMP:20260425T173609
CREATED:20251216T142734Z
LAST-MODIFIED:20260121T103339Z
UID:10010650-1778666400-1778673600@pingstjonkoping.se
SUMMARY:Kvinna
DESCRIPTION:gemenskap och skapande
URL:https://pingstjonkoping.se/kalender/kvinna/2026-05-13/
LOCATION:Pingstkyrkan\, Jönköping\, Västra torget\, Lagermansgatan 1\, Jönköping\, Sverige
CATEGORIES:Kvinnor
GEO:57.7819831;14.1553961
X-APPLE-STRUCTURED-LOCATION;VALUE=URI;X-ADDRESS=Pingstkyrkan Jönköping Västra torget Lagermansgatan 1 Jönköping Sverige;X-APPLE-RADIUS=500;X-TITLE=Västra torget\, Lagermansgatan 1:geo:14.1553961,57.7819831
END:VEVENT
BEGIN:VEVENT
DTSTART;TZID=Europe/Stockholm:20260513T140000
DTEND;TZID=Europe/Stockholm:20260513T160000
DTSTAMP:20260425T173609
CREATED:20260123T150225Z
LAST-MODIFIED:20260123T150225Z
UID:10010763-1778680800-1778688000@pingstjonkoping.se
SUMMARY:Torget60+/RPG
DESCRIPTION:Wetterbrass
URL:https://pingstjonkoping.se/kalender/torget60-rpg-8/
LOCATION:Pingstkyrkan\, Jönköping\, Västra torget\, Lagermansgatan 1\, Jönköping\, Sverige
CATEGORIES:Senior
GEO:57.7819831;14.1553961
X-APPLE-STRUCTURED-LOCATION;VALUE=URI;X-ADDRESS=Pingstkyrkan Jönköping Västra torget Lagermansgatan 1 Jönköping Sverige;X-APPLE-RADIUS=500;X-TITLE=Västra torget\, Lagermansgatan 1:geo:14.1553961,57.7819831
END:VEVENT
BEGIN:VEVENT
DTSTART;TZID=Europe/Stockholm:20260514T170000
DTEND;TZID=Europe/Stockholm:20260514T183000
DTSTAMP:20260425T173609
CREATED:20251216T143928Z
LAST-MODIFIED:20260422T143815Z
UID:10010691-1778778000-1778783400@pingstjonkoping.se
SUMMARY:Café hela världen
DESCRIPTION:gemenskap och fika
URL:https://pingstjonkoping.se/kalender/cafe-hela-varlden/2026-05-14/
LOCATION:Pingstkyrkan\, Jönköping\, Västra torget\, Lagermansgatan 1\, Jönköping\, Sverige
GEO:57.7819831;14.1553961
X-APPLE-STRUCTURED-LOCATION;VALUE=URI;X-ADDRESS=Pingstkyrkan Jönköping Västra torget Lagermansgatan 1 Jönköping Sverige;X-APPLE-RADIUS=500;X-TITLE=Västra torget\, Lagermansgatan 1:geo:14.1553961,57.7819831
END:VEVENT
END:VCALENDAR