BEGIN:VCALENDAR
VERSION:2.0
PRODID:-//Pingst Jönköping - ECPv6.15.20//NONSGML v1.0//EN
CALSCALE:GREGORIAN
METHOD:PUBLISH
X-ORIGINAL-URL:https://pingstjonkoping.se
X-WR-CALDESC:Händelser för Pingst Jönköping
REFRESH-INTERVAL;VALUE=DURATION:PT1H
X-Robots-Tag:noindex
X-PUBLISHED-TTL:PT1H
BEGIN:VTIMEZONE
TZID:Europe/Stockholm
BEGIN:DAYLIGHT
TZOFFSETFROM:+0100
TZOFFSETTO:+0200
TZNAME:CEST
DTSTART:20240331T010000
END:DAYLIGHT
BEGIN:STANDARD
TZOFFSETFROM:+0200
TZOFFSETTO:+0100
TZNAME:CET
DTSTART:20241027T010000
END:STANDARD
BEGIN:DAYLIGHT
TZOFFSETFROM:+0100
TZOFFSETTO:+0200
TZNAME:CEST
DTSTART:20250330T010000
END:DAYLIGHT
BEGIN:STANDARD
TZOFFSETFROM:+0200
TZOFFSETTO:+0100
TZNAME:CET
DTSTART:20251026T010000
END:STANDARD
BEGIN:DAYLIGHT
TZOFFSETFROM:+0100
TZOFFSETTO:+0200
TZNAME:CEST
DTSTART:20260329T010000
END:DAYLIGHT
BEGIN:STANDARD
TZOFFSETFROM:+0200
TZOFFSETTO:+0100
TZNAME:CET
DTSTART:20261025T010000
END:STANDARD
END:VTIMEZONE
BEGIN:VEVENT
DTSTART;TZID=Europe/Stockholm:20250803T103000
DTEND;TZID=Europe/Stockholm:20250803T120000
DTSTAMP:20260425T174053
CREATED:20250604T145217Z
LAST-MODIFIED:20250604T145217Z
UID:10009807-1754217000-1754222400@pingstjonkoping.se
SUMMARY:Gudstjänst
DESCRIPTION:Predikan: Samuel Westergren. Musik: Linus Liljeblad. 
URL:https://pingstjonkoping.se/kalender/gudstjanst-105/
LOCATION:Pingstkyrkan\, Jönköping\, Västra torget\, Lagermansgatan 1\, Jönköping\, Sverige
CATEGORIES:Gudstjänst
GEO:57.7819831;14.1553961
X-APPLE-STRUCTURED-LOCATION;VALUE=URI;X-ADDRESS=Pingstkyrkan Jönköping Västra torget Lagermansgatan 1 Jönköping Sverige;X-APPLE-RADIUS=500;X-TITLE=Västra torget\, Lagermansgatan 1:geo:14.1553961,57.7819831
END:VEVENT
BEGIN:VEVENT
DTSTART;TZID=Europe/Stockholm:20250807T190000
DTEND;TZID=Europe/Stockholm:20250807T210000
DTSTAMP:20260425T174053
CREATED:20250630T084644Z
LAST-MODIFIED:20250630T084644Z
UID:10009877-1754593200-1754600400@pingstjonkoping.se
SUMMARY:Kvällsmöte på Elmia
DESCRIPTION:Möte på tältkampanjen “Det finns hopp” på Elmia fältet. Med Sebastian Stakset m.fl.
URL:https://pingstjonkoping.se/kalender/kvallsmote-pa-elmia-2/
LOCATION:Elmia fältet\, Jönköping\, Sweden
CATEGORIES:Gudstjänst
GEO:57.7826137;14.1617876
END:VEVENT
BEGIN:VEVENT
DTSTART;TZID=Europe/Stockholm:20250808T190000
DTEND;TZID=Europe/Stockholm:20250808T210000
DTSTAMP:20260425T174053
CREATED:20250630T085230Z
LAST-MODIFIED:20250630T085230Z
UID:10009879-1754679600-1754686800@pingstjonkoping.se
SUMMARY:Kvällsmöte på Elmia fältet
DESCRIPTION:Möte på tältkampanjen “Det finns hopp” på Elmia fältet. \n(med Carl Gustaf Severin\, Betz Assefa\, Simon Möller m.fl.)
URL:https://pingstjonkoping.se/kalender/kvallsmote-pa-elmia-faltet/
LOCATION:Elmia fältet\, Jönköping\, Sweden
CATEGORIES:Gudstjänst
GEO:57.7826137;14.1617876
END:VEVENT
BEGIN:VEVENT
DTSTART;TZID=Europe/Stockholm:20250809T190000
DTEND;TZID=Europe/Stockholm:20250809T203000
DTSTAMP:20260425T174053
CREATED:20250630T085734Z
LAST-MODIFIED:20250630T085734Z
UID:10009882-1754766000-1754771400@pingstjonkoping.se
SUMMARY:Kvällsmöte på Elmia fältet
DESCRIPTION:med Sebastian Stakset\, Josefina Gniste\, m.fl . \nTältmöte på Elmia fältet
URL:https://pingstjonkoping.se/kalender/kvallsmote-pa-elmia-faltet-2/
LOCATION:Pingstkyrkan\, Jönköping\, Västra torget\, Lagermansgatan 1\, Jönköping\, Sverige
CATEGORIES:Gudstjänst
GEO:57.7819831;14.1553961
X-APPLE-STRUCTURED-LOCATION;VALUE=URI;X-ADDRESS=Pingstkyrkan Jönköping Västra torget Lagermansgatan 1 Jönköping Sverige;X-APPLE-RADIUS=500;X-TITLE=Västra torget\, Lagermansgatan 1:geo:14.1553961,57.7819831
END:VEVENT
BEGIN:VEVENT
DTSTART;TZID=Europe/Stockholm:20250810T110000
DTEND;TZID=Europe/Stockholm:20250810T130000
DTSTAMP:20260425T174053
CREATED:20250630T090103Z
LAST-MODIFIED:20250630T090317Z
UID:10009883-1754823600-1754830800@pingstjonkoping.se
SUMMARY:Gudstjänst på Elmia fältet
DESCRIPTION:Hans Weichbrodt\, Josefina Gniste\, m.fl. \nObs! Pickup-buss går varje 15 min från busshållplatsen “Rosenlunds badhus” till Elmia fältet.
URL:https://pingstjonkoping.se/kalender/gudstjanst-pa-elmia-faltet/
LOCATION:Elmia fältet\, Jönköping\, Sweden
CATEGORIES:Gudstjänst
GEO:57.7826137;14.1617876
END:VEVENT
BEGIN:VEVENT
DTSTART;TZID=Europe/Stockholm:20250817T103000
DTEND;TZID=Europe/Stockholm:20250817T120000
DTSTAMP:20260425T174053
CREATED:20250630T090814Z
LAST-MODIFIED:20250630T090814Z
UID:10009907-1755426600-1755432000@pingstjonkoping.se
SUMMARY:Gudstjänst
DESCRIPTION:Predikan: Beatrice Bergroth \nMusik: Gabriella Gillstedt
URL:https://pingstjonkoping.se/kalender/gudstjanst-106/
LOCATION:Pingstkyrkan\, Jönköping\, Västra torget\, Lagermansgatan 1\, Jönköping\, Sverige
CATEGORIES:Gudstjänst
GEO:57.7819831;14.1553961
X-APPLE-STRUCTURED-LOCATION;VALUE=URI;X-ADDRESS=Pingstkyrkan Jönköping Västra torget Lagermansgatan 1 Jönköping Sverige;X-APPLE-RADIUS=500;X-TITLE=Västra torget\, Lagermansgatan 1:geo:14.1553961,57.7819831
END:VEVENT
BEGIN:VEVENT
DTSTART;TZID=Europe/Stockholm:20250824T103000
DTEND;TZID=Europe/Stockholm:20250824T120000
DTSTAMP:20260425T174053
CREATED:20250630T090924Z
LAST-MODIFIED:20250818T082430Z
UID:10009908-1756031400-1756036800@pingstjonkoping.se
SUMMARY:Gudstjänst- upptakt
DESCRIPTION:Söndagsklubben. \nBarnvälsignelse. Predikar: Marcus Ardenfors. \nStor lovsångskör.
URL:https://pingstjonkoping.se/kalender/gudstjanst-upptakt-2/
LOCATION:Pingstkyrkan\, Jönköping\, Västra torget\, Lagermansgatan 1\, Jönköping\, Sverige
CATEGORIES:Gudstjänst
GEO:57.7819831;14.1553961
X-APPLE-STRUCTURED-LOCATION;VALUE=URI;X-ADDRESS=Pingstkyrkan Jönköping Västra torget Lagermansgatan 1 Jönköping Sverige;X-APPLE-RADIUS=500;X-TITLE=Västra torget\, Lagermansgatan 1:geo:14.1553961,57.7819831
END:VEVENT
BEGIN:VEVENT
DTSTART;TZID=Europe/Stockholm:20250831T103000
DTEND;TZID=Europe/Stockholm:20250831T120000
DTSTAMP:20260425T174053
CREATED:20250630T092221Z
LAST-MODIFIED:20250826T121055Z
UID:10010008-1756636200-1756641600@pingstjonkoping.se
SUMMARY:Gudstjänst
DESCRIPTION:Predikan: Marcus Ardenfors. Musik: Orkestern. Extra insamling till ombyggnationen
URL:https://pingstjonkoping.se/kalender/gudstjanst-107/
LOCATION:Pingstkyrkan\, Jönköping\, Västra torget\, Lagermansgatan 1\, Jönköping\, Sverige
CATEGORIES:Gudstjänst
GEO:57.7819831;14.1553961
X-APPLE-STRUCTURED-LOCATION;VALUE=URI;X-ADDRESS=Pingstkyrkan Jönköping Västra torget Lagermansgatan 1 Jönköping Sverige;X-APPLE-RADIUS=500;X-TITLE=Västra torget\, Lagermansgatan 1:geo:14.1553961,57.7819831
END:VEVENT
END:VCALENDAR