BEGIN:VCALENDAR
VERSION:2.0
PRODID:-//Pingst Jönköping - ECPv6.15.20//NONSGML v1.0//EN
CALSCALE:GREGORIAN
METHOD:PUBLISH
X-WR-CALNAME:Pingst Jönköping
X-ORIGINAL-URL:https://pingstjonkoping.se
X-WR-CALDESC:Händelser för Pingst Jönköping
REFRESH-INTERVAL;VALUE=DURATION:PT1H
X-Robots-Tag:noindex
X-PUBLISHED-TTL:PT1H
BEGIN:VTIMEZONE
TZID:Europe/Stockholm
BEGIN:DAYLIGHT
TZOFFSETFROM:+0100
TZOFFSETTO:+0200
TZNAME:CEST
DTSTART:20240331T010000
END:DAYLIGHT
BEGIN:STANDARD
TZOFFSETFROM:+0200
TZOFFSETTO:+0100
TZNAME:CET
DTSTART:20241027T010000
END:STANDARD
BEGIN:DAYLIGHT
TZOFFSETFROM:+0100
TZOFFSETTO:+0200
TZNAME:CEST
DTSTART:20250330T010000
END:DAYLIGHT
BEGIN:STANDARD
TZOFFSETFROM:+0200
TZOFFSETTO:+0100
TZNAME:CET
DTSTART:20251026T010000
END:STANDARD
BEGIN:DAYLIGHT
TZOFFSETFROM:+0100
TZOFFSETTO:+0200
TZNAME:CEST
DTSTART:20260329T010000
END:DAYLIGHT
BEGIN:STANDARD
TZOFFSETFROM:+0200
TZOFFSETTO:+0100
TZNAME:CET
DTSTART:20261025T010000
END:STANDARD
END:VTIMEZONE
BEGIN:VEVENT
DTSTART;TZID=Europe/Stockholm:20251118T080000
DTEND;TZID=Europe/Stockholm:20251118T090000
DTSTAMP:20260420T022811
CREATED:20250630T084121Z
LAST-MODIFIED:20250630T084121Z
UID:10009862-1763452800-1763456400@pingstjonkoping.se
SUMMARY:Morgonbön
DESCRIPTION:I bönerummet (ingång via dörren till vänster om stora entrén)
URL:https://pingstjonkoping.se/kalender/morgonbon/2025-11-18/
LOCATION:Pingstkyrkan\, Jönköping\, Västra torget\, Lagermansgatan 1\, Jönköping\, Sverige
CATEGORIES:Bön
GEO:57.7819831;14.1553961
X-APPLE-STRUCTURED-LOCATION;VALUE=URI;X-ADDRESS=Pingstkyrkan Jönköping Västra torget Lagermansgatan 1 Jönköping Sverige;X-APPLE-RADIUS=500;X-TITLE=Västra torget\, Lagermansgatan 1:geo:14.1553961,57.7819831
END:VEVENT
BEGIN:VEVENT
DTSTART;TZID=Europe/Stockholm:20251118T110000
DTEND;TZID=Europe/Stockholm:20251118T120000
DTSTAMP:20260420T022811
CREATED:20240619T120439Z
LAST-MODIFIED:20250617T110145Z
UID:10009033-1763463600-1763467200@pingstjonkoping.se
SUMMARY:Bön
DESCRIPTION:
URL:https://pingstjonkoping.se/kalender/bon-7/2025-11-18/
LOCATION:Pingstkyrkan\, Jönköping\, Västra torget\, Lagermansgatan 1\, Jönköping\, Sverige
CATEGORIES:Bön
GEO:57.7819831;14.1553961
X-APPLE-STRUCTURED-LOCATION;VALUE=URI;X-ADDRESS=Pingstkyrkan Jönköping Västra torget Lagermansgatan 1 Jönköping Sverige;X-APPLE-RADIUS=500;X-TITLE=Västra torget\, Lagermansgatan 1:geo:14.1553961,57.7819831
END:VEVENT
BEGIN:VEVENT
DTSTART;TZID=Europe/Stockholm:20251119T080000
DTEND;TZID=Europe/Stockholm:20251119T090000
DTSTAMP:20260420T022811
CREATED:20250630T084121Z
LAST-MODIFIED:20250630T084121Z
UID:10009863-1763539200-1763542800@pingstjonkoping.se
SUMMARY:Morgonbön
DESCRIPTION:I bönerummet (ingång via dörren till vänster om stora entrén)
URL:https://pingstjonkoping.se/kalender/morgonbon/2025-11-19/
LOCATION:Pingstkyrkan\, Jönköping\, Västra torget\, Lagermansgatan 1\, Jönköping\, Sverige
CATEGORIES:Bön
GEO:57.7819831;14.1553961
X-APPLE-STRUCTURED-LOCATION;VALUE=URI;X-ADDRESS=Pingstkyrkan Jönköping Västra torget Lagermansgatan 1 Jönköping Sverige;X-APPLE-RADIUS=500;X-TITLE=Västra torget\, Lagermansgatan 1:geo:14.1553961,57.7819831
END:VEVENT
BEGIN:VEVENT
DTSTART;TZID=Europe/Stockholm:20251120T080000
DTEND;TZID=Europe/Stockholm:20251120T090000
DTSTAMP:20260420T022811
CREATED:20250630T084121Z
LAST-MODIFIED:20250630T084121Z
UID:10009864-1763625600-1763629200@pingstjonkoping.se
SUMMARY:Morgonbön
DESCRIPTION:I bönerummet (ingång via dörren till vänster om stora entrén)
URL:https://pingstjonkoping.se/kalender/morgonbon/2025-11-20/
LOCATION:Pingstkyrkan\, Jönköping\, Västra torget\, Lagermansgatan 1\, Jönköping\, Sverige
CATEGORIES:Bön
GEO:57.7819831;14.1553961
X-APPLE-STRUCTURED-LOCATION;VALUE=URI;X-ADDRESS=Pingstkyrkan Jönköping Västra torget Lagermansgatan 1 Jönköping Sverige;X-APPLE-RADIUS=500;X-TITLE=Västra torget\, Lagermansgatan 1:geo:14.1553961,57.7819831
END:VEVENT
END:VCALENDAR