BEGIN:VCALENDAR
VERSION:2.0
PRODID:-//Pingst Jönköping - ECPv6.15.20//NONSGML v1.0//EN
CALSCALE:GREGORIAN
METHOD:PUBLISH
X-ORIGINAL-URL:https://pingstjonkoping.se
X-WR-CALDESC:Händelser för Pingst Jönköping
REFRESH-INTERVAL;VALUE=DURATION:PT1H
X-Robots-Tag:noindex
X-PUBLISHED-TTL:PT1H
BEGIN:VTIMEZONE
TZID:Europe/Stockholm
BEGIN:DAYLIGHT
TZOFFSETFROM:+0100
TZOFFSETTO:+0200
TZNAME:CEST
DTSTART:20240331T010000
END:DAYLIGHT
BEGIN:STANDARD
TZOFFSETFROM:+0200
TZOFFSETTO:+0100
TZNAME:CET
DTSTART:20241027T010000
END:STANDARD
BEGIN:DAYLIGHT
TZOFFSETFROM:+0100
TZOFFSETTO:+0200
TZNAME:CEST
DTSTART:20250330T010000
END:DAYLIGHT
BEGIN:STANDARD
TZOFFSETFROM:+0200
TZOFFSETTO:+0100
TZNAME:CET
DTSTART:20251026T010000
END:STANDARD
BEGIN:DAYLIGHT
TZOFFSETFROM:+0100
TZOFFSETTO:+0200
TZNAME:CEST
DTSTART:20260329T010000
END:DAYLIGHT
BEGIN:STANDARD
TZOFFSETFROM:+0200
TZOFFSETTO:+0100
TZNAME:CET
DTSTART:20261025T010000
END:STANDARD
END:VTIMEZONE
BEGIN:VEVENT
DTSTART;TZID=Europe/Stockholm:20251104T080000
DTEND;TZID=Europe/Stockholm:20251104T090000
DTSTAMP:20260419T224614
CREATED:20250630T084121Z
LAST-MODIFIED:20250630T084121Z
UID:10009856-1762243200-1762246800@pingstjonkoping.se
SUMMARY:Morgonbön
DESCRIPTION:I bönerummet (ingång via dörren till vänster om stora entrén)
URL:https://pingstjonkoping.se/kalender/morgonbon/2025-11-04/
LOCATION:Pingstkyrkan\, Jönköping\, Västra torget\, Lagermansgatan 1\, Jönköping\, Sverige
CATEGORIES:Bön
GEO:57.7819831;14.1553961
X-APPLE-STRUCTURED-LOCATION;VALUE=URI;X-ADDRESS=Pingstkyrkan Jönköping Västra torget Lagermansgatan 1 Jönköping Sverige;X-APPLE-RADIUS=500;X-TITLE=Västra torget\, Lagermansgatan 1:geo:14.1553961,57.7819831
END:VEVENT
BEGIN:VEVENT
DTSTART;TZID=Europe/Stockholm:20251104T110000
DTEND;TZID=Europe/Stockholm:20251104T120000
DTSTAMP:20260419T224614
CREATED:20240619T120439Z
LAST-MODIFIED:20250617T110145Z
UID:10009031-1762254000-1762257600@pingstjonkoping.se
SUMMARY:Bön
DESCRIPTION:
URL:https://pingstjonkoping.se/kalender/bon-7/2025-11-04/
LOCATION:Pingstkyrkan\, Jönköping\, Västra torget\, Lagermansgatan 1\, Jönköping\, Sverige
CATEGORIES:Bön
GEO:57.7819831;14.1553961
X-APPLE-STRUCTURED-LOCATION;VALUE=URI;X-ADDRESS=Pingstkyrkan Jönköping Västra torget Lagermansgatan 1 Jönköping Sverige;X-APPLE-RADIUS=500;X-TITLE=Västra torget\, Lagermansgatan 1:geo:14.1553961,57.7819831
END:VEVENT
BEGIN:VEVENT
DTSTART;TZID=Europe/Stockholm:20251105T080000
DTEND;TZID=Europe/Stockholm:20251105T090000
DTSTAMP:20260419T224614
CREATED:20250630T084121Z
LAST-MODIFIED:20250630T084121Z
UID:10009857-1762329600-1762333200@pingstjonkoping.se
SUMMARY:Morgonbön
DESCRIPTION:I bönerummet (ingång via dörren till vänster om stora entrén)
URL:https://pingstjonkoping.se/kalender/morgonbon/2025-11-05/
LOCATION:Pingstkyrkan\, Jönköping\, Västra torget\, Lagermansgatan 1\, Jönköping\, Sverige
CATEGORIES:Bön
GEO:57.7819831;14.1553961
X-APPLE-STRUCTURED-LOCATION;VALUE=URI;X-ADDRESS=Pingstkyrkan Jönköping Västra torget Lagermansgatan 1 Jönköping Sverige;X-APPLE-RADIUS=500;X-TITLE=Västra torget\, Lagermansgatan 1:geo:14.1553961,57.7819831
END:VEVENT
BEGIN:VEVENT
DTSTART;TZID=Europe/Stockholm:20251106T080000
DTEND;TZID=Europe/Stockholm:20251106T090000
DTSTAMP:20260419T224614
CREATED:20250630T084121Z
LAST-MODIFIED:20250630T084121Z
UID:10009858-1762416000-1762419600@pingstjonkoping.se
SUMMARY:Morgonbön
DESCRIPTION:I bönerummet (ingång via dörren till vänster om stora entrén)
URL:https://pingstjonkoping.se/kalender/morgonbon/2025-11-06/
LOCATION:Pingstkyrkan\, Jönköping\, Västra torget\, Lagermansgatan 1\, Jönköping\, Sverige
CATEGORIES:Bön
GEO:57.7819831;14.1553961
X-APPLE-STRUCTURED-LOCATION;VALUE=URI;X-ADDRESS=Pingstkyrkan Jönköping Västra torget Lagermansgatan 1 Jönköping Sverige;X-APPLE-RADIUS=500;X-TITLE=Västra torget\, Lagermansgatan 1:geo:14.1553961,57.7819831
END:VEVENT
BEGIN:VEVENT
DTSTART;TZID=Europe/Stockholm:20251111T080000
DTEND;TZID=Europe/Stockholm:20251111T090000
DTSTAMP:20260419T224614
CREATED:20250630T084121Z
LAST-MODIFIED:20250630T084121Z
UID:10009859-1762848000-1762851600@pingstjonkoping.se
SUMMARY:Morgonbön
DESCRIPTION:I bönerummet (ingång via dörren till vänster om stora entrén)
URL:https://pingstjonkoping.se/kalender/morgonbon/2025-11-11/
LOCATION:Pingstkyrkan\, Jönköping\, Västra torget\, Lagermansgatan 1\, Jönköping\, Sverige
CATEGORIES:Bön
GEO:57.7819831;14.1553961
X-APPLE-STRUCTURED-LOCATION;VALUE=URI;X-ADDRESS=Pingstkyrkan Jönköping Västra torget Lagermansgatan 1 Jönköping Sverige;X-APPLE-RADIUS=500;X-TITLE=Västra torget\, Lagermansgatan 1:geo:14.1553961,57.7819831
END:VEVENT
BEGIN:VEVENT
DTSTART;TZID=Europe/Stockholm:20251111T110000
DTEND;TZID=Europe/Stockholm:20251111T120000
DTSTAMP:20260419T224614
CREATED:20240619T120439Z
LAST-MODIFIED:20250617T110145Z
UID:10009032-1762858800-1762862400@pingstjonkoping.se
SUMMARY:Bön
DESCRIPTION:
URL:https://pingstjonkoping.se/kalender/bon-7/2025-11-11/
LOCATION:Pingstkyrkan\, Jönköping\, Västra torget\, Lagermansgatan 1\, Jönköping\, Sverige
CATEGORIES:Bön
GEO:57.7819831;14.1553961
X-APPLE-STRUCTURED-LOCATION;VALUE=URI;X-ADDRESS=Pingstkyrkan Jönköping Västra torget Lagermansgatan 1 Jönköping Sverige;X-APPLE-RADIUS=500;X-TITLE=Västra torget\, Lagermansgatan 1:geo:14.1553961,57.7819831
END:VEVENT
BEGIN:VEVENT
DTSTART;TZID=Europe/Stockholm:20251112T080000
DTEND;TZID=Europe/Stockholm:20251112T090000
DTSTAMP:20260419T224614
CREATED:20250630T084121Z
LAST-MODIFIED:20250630T084121Z
UID:10009860-1762934400-1762938000@pingstjonkoping.se
SUMMARY:Morgonbön
DESCRIPTION:I bönerummet (ingång via dörren till vänster om stora entrén)
URL:https://pingstjonkoping.se/kalender/morgonbon/2025-11-12/
LOCATION:Pingstkyrkan\, Jönköping\, Västra torget\, Lagermansgatan 1\, Jönköping\, Sverige
CATEGORIES:Bön
GEO:57.7819831;14.1553961
X-APPLE-STRUCTURED-LOCATION;VALUE=URI;X-ADDRESS=Pingstkyrkan Jönköping Västra torget Lagermansgatan 1 Jönköping Sverige;X-APPLE-RADIUS=500;X-TITLE=Västra torget\, Lagermansgatan 1:geo:14.1553961,57.7819831
END:VEVENT
BEGIN:VEVENT
DTSTART;TZID=Europe/Stockholm:20251113T080000
DTEND;TZID=Europe/Stockholm:20251113T090000
DTSTAMP:20260419T224614
CREATED:20250630T084121Z
LAST-MODIFIED:20250630T084121Z
UID:10009861-1763020800-1763024400@pingstjonkoping.se
SUMMARY:Morgonbön
DESCRIPTION:I bönerummet (ingång via dörren till vänster om stora entrén)
URL:https://pingstjonkoping.se/kalender/morgonbon/2025-11-13/
LOCATION:Pingstkyrkan\, Jönköping\, Västra torget\, Lagermansgatan 1\, Jönköping\, Sverige
CATEGORIES:Bön
GEO:57.7819831;14.1553961
X-APPLE-STRUCTURED-LOCATION;VALUE=URI;X-ADDRESS=Pingstkyrkan Jönköping Västra torget Lagermansgatan 1 Jönköping Sverige;X-APPLE-RADIUS=500;X-TITLE=Västra torget\, Lagermansgatan 1:geo:14.1553961,57.7819831
END:VEVENT
BEGIN:VEVENT
DTSTART;TZID=Europe/Stockholm:20251116T180000
DTEND;TZID=Europe/Stockholm:20251116T193000
DTSTAMP:20260419T224614
CREATED:20251104T104835Z
LAST-MODIFIED:20251104T104835Z
UID:10010103-1763316000-1763321400@pingstjonkoping.se
SUMMARY:Bön och lovsångskväll i Kungsportskyrkan
DESCRIPTION:Bön och lovsångskväll tillsammans med flera kyrkor på Kungsporten.
URL:https://pingstjonkoping.se/kalender/bon-och-lovsangskvall-i-kungsportskyrkan/
LOCATION:Kungsporten\, Kungsängsv. 25\, Huskvarna\, 56151
CATEGORIES:Bön
GEO:57.7824583;14.2600221
X-APPLE-STRUCTURED-LOCATION;VALUE=URI;X-ADDRESS=Kungsporten Kungsängsv. 25 Huskvarna 56151;X-APPLE-RADIUS=500;X-TITLE=Kungsängsv. 25:geo:14.2600221,57.7824583
END:VEVENT
BEGIN:VEVENT
DTSTART;TZID=Europe/Stockholm:20251118T080000
DTEND;TZID=Europe/Stockholm:20251118T090000
DTSTAMP:20260419T224614
CREATED:20250630T084121Z
LAST-MODIFIED:20250630T084121Z
UID:10009862-1763452800-1763456400@pingstjonkoping.se
SUMMARY:Morgonbön
DESCRIPTION:I bönerummet (ingång via dörren till vänster om stora entrén)
URL:https://pingstjonkoping.se/kalender/morgonbon/2025-11-18/
LOCATION:Pingstkyrkan\, Jönköping\, Västra torget\, Lagermansgatan 1\, Jönköping\, Sverige
CATEGORIES:Bön
GEO:57.7819831;14.1553961
X-APPLE-STRUCTURED-LOCATION;VALUE=URI;X-ADDRESS=Pingstkyrkan Jönköping Västra torget Lagermansgatan 1 Jönköping Sverige;X-APPLE-RADIUS=500;X-TITLE=Västra torget\, Lagermansgatan 1:geo:14.1553961,57.7819831
END:VEVENT
BEGIN:VEVENT
DTSTART;TZID=Europe/Stockholm:20251118T110000
DTEND;TZID=Europe/Stockholm:20251118T120000
DTSTAMP:20260419T224614
CREATED:20240619T120439Z
LAST-MODIFIED:20250617T110145Z
UID:10009033-1763463600-1763467200@pingstjonkoping.se
SUMMARY:Bön
DESCRIPTION:
URL:https://pingstjonkoping.se/kalender/bon-7/2025-11-18/
LOCATION:Pingstkyrkan\, Jönköping\, Västra torget\, Lagermansgatan 1\, Jönköping\, Sverige
CATEGORIES:Bön
GEO:57.7819831;14.1553961
X-APPLE-STRUCTURED-LOCATION;VALUE=URI;X-ADDRESS=Pingstkyrkan Jönköping Västra torget Lagermansgatan 1 Jönköping Sverige;X-APPLE-RADIUS=500;X-TITLE=Västra torget\, Lagermansgatan 1:geo:14.1553961,57.7819831
END:VEVENT
BEGIN:VEVENT
DTSTART;TZID=Europe/Stockholm:20251119T080000
DTEND;TZID=Europe/Stockholm:20251119T090000
DTSTAMP:20260419T224614
CREATED:20250630T084121Z
LAST-MODIFIED:20250630T084121Z
UID:10009863-1763539200-1763542800@pingstjonkoping.se
SUMMARY:Morgonbön
DESCRIPTION:I bönerummet (ingång via dörren till vänster om stora entrén)
URL:https://pingstjonkoping.se/kalender/morgonbon/2025-11-19/
LOCATION:Pingstkyrkan\, Jönköping\, Västra torget\, Lagermansgatan 1\, Jönköping\, Sverige
CATEGORIES:Bön
GEO:57.7819831;14.1553961
X-APPLE-STRUCTURED-LOCATION;VALUE=URI;X-ADDRESS=Pingstkyrkan Jönköping Västra torget Lagermansgatan 1 Jönköping Sverige;X-APPLE-RADIUS=500;X-TITLE=Västra torget\, Lagermansgatan 1:geo:14.1553961,57.7819831
END:VEVENT
BEGIN:VEVENT
DTSTART;TZID=Europe/Stockholm:20251120T080000
DTEND;TZID=Europe/Stockholm:20251120T090000
DTSTAMP:20260419T224614
CREATED:20250630T084121Z
LAST-MODIFIED:20250630T084121Z
UID:10009864-1763625600-1763629200@pingstjonkoping.se
SUMMARY:Morgonbön
DESCRIPTION:I bönerummet (ingång via dörren till vänster om stora entrén)
URL:https://pingstjonkoping.se/kalender/morgonbon/2025-11-20/
LOCATION:Pingstkyrkan\, Jönköping\, Västra torget\, Lagermansgatan 1\, Jönköping\, Sverige
CATEGORIES:Bön
GEO:57.7819831;14.1553961
X-APPLE-STRUCTURED-LOCATION;VALUE=URI;X-ADDRESS=Pingstkyrkan Jönköping Västra torget Lagermansgatan 1 Jönköping Sverige;X-APPLE-RADIUS=500;X-TITLE=Västra torget\, Lagermansgatan 1:geo:14.1553961,57.7819831
END:VEVENT
BEGIN:VEVENT
DTSTART;TZID=Europe/Stockholm:20251125T080000
DTEND;TZID=Europe/Stockholm:20251125T090000
DTSTAMP:20260419T224614
CREATED:20250630T084121Z
LAST-MODIFIED:20250630T084121Z
UID:10009865-1764057600-1764061200@pingstjonkoping.se
SUMMARY:Morgonbön
DESCRIPTION:I bönerummet (ingång via dörren till vänster om stora entrén)
URL:https://pingstjonkoping.se/kalender/morgonbon/2025-11-25/
LOCATION:Pingstkyrkan\, Jönköping\, Västra torget\, Lagermansgatan 1\, Jönköping\, Sverige
CATEGORIES:Bön
GEO:57.7819831;14.1553961
X-APPLE-STRUCTURED-LOCATION;VALUE=URI;X-ADDRESS=Pingstkyrkan Jönköping Västra torget Lagermansgatan 1 Jönköping Sverige;X-APPLE-RADIUS=500;X-TITLE=Västra torget\, Lagermansgatan 1:geo:14.1553961,57.7819831
END:VEVENT
BEGIN:VEVENT
DTSTART;TZID=Europe/Stockholm:20251125T110000
DTEND;TZID=Europe/Stockholm:20251125T120000
DTSTAMP:20260419T224614
CREATED:20240619T120439Z
LAST-MODIFIED:20250617T110145Z
UID:10009034-1764068400-1764072000@pingstjonkoping.se
SUMMARY:Bön
DESCRIPTION:
URL:https://pingstjonkoping.se/kalender/bon-7/2025-11-25/
LOCATION:Pingstkyrkan\, Jönköping\, Västra torget\, Lagermansgatan 1\, Jönköping\, Sverige
CATEGORIES:Bön
GEO:57.7819831;14.1553961
X-APPLE-STRUCTURED-LOCATION;VALUE=URI;X-ADDRESS=Pingstkyrkan Jönköping Västra torget Lagermansgatan 1 Jönköping Sverige;X-APPLE-RADIUS=500;X-TITLE=Västra torget\, Lagermansgatan 1:geo:14.1553961,57.7819831
END:VEVENT
BEGIN:VEVENT
DTSTART;TZID=Europe/Stockholm:20251126T080000
DTEND;TZID=Europe/Stockholm:20251126T090000
DTSTAMP:20260419T224614
CREATED:20250630T084121Z
LAST-MODIFIED:20250630T084121Z
UID:10009866-1764144000-1764147600@pingstjonkoping.se
SUMMARY:Morgonbön
DESCRIPTION:I bönerummet (ingång via dörren till vänster om stora entrén)
URL:https://pingstjonkoping.se/kalender/morgonbon/2025-11-26/
LOCATION:Pingstkyrkan\, Jönköping\, Västra torget\, Lagermansgatan 1\, Jönköping\, Sverige
CATEGORIES:Bön
GEO:57.7819831;14.1553961
X-APPLE-STRUCTURED-LOCATION;VALUE=URI;X-ADDRESS=Pingstkyrkan Jönköping Västra torget Lagermansgatan 1 Jönköping Sverige;X-APPLE-RADIUS=500;X-TITLE=Västra torget\, Lagermansgatan 1:geo:14.1553961,57.7819831
END:VEVENT
BEGIN:VEVENT
DTSTART;TZID=Europe/Stockholm:20251127T080000
DTEND;TZID=Europe/Stockholm:20251127T090000
DTSTAMP:20260419T224614
CREATED:20250630T084121Z
LAST-MODIFIED:20250630T084121Z
UID:10009867-1764230400-1764234000@pingstjonkoping.se
SUMMARY:Morgonbön
DESCRIPTION:I bönerummet (ingång via dörren till vänster om stora entrén)
URL:https://pingstjonkoping.se/kalender/morgonbon/2025-11-27/
LOCATION:Pingstkyrkan\, Jönköping\, Västra torget\, Lagermansgatan 1\, Jönköping\, Sverige
CATEGORIES:Bön
GEO:57.7819831;14.1553961
X-APPLE-STRUCTURED-LOCATION;VALUE=URI;X-ADDRESS=Pingstkyrkan Jönköping Västra torget Lagermansgatan 1 Jönköping Sverige;X-APPLE-RADIUS=500;X-TITLE=Västra torget\, Lagermansgatan 1:geo:14.1553961,57.7819831
END:VEVENT
BEGIN:VEVENT
DTSTART;TZID=Europe/Stockholm:20251127T183000
DTEND;TZID=Europe/Stockholm:20251127T193000
DTSTAMP:20260419T224614
CREATED:20250226T155654Z
LAST-MODIFIED:20260123T150548Z
UID:10009756-1764268200-1764271800@pingstjonkoping.se
SUMMARY:Bön/ Bibelläsning
DESCRIPTION:
URL:https://pingstjonkoping.se/kalender/bon-8/2025-11-27/
LOCATION:Pingstkyrkan\, Jönköping\, Västra torget\, Lagermansgatan 1\, Jönköping\, Sverige
CATEGORIES:Bön
GEO:57.7819831;14.1553961
X-APPLE-STRUCTURED-LOCATION;VALUE=URI;X-ADDRESS=Pingstkyrkan Jönköping Västra torget Lagermansgatan 1 Jönköping Sverige;X-APPLE-RADIUS=500;X-TITLE=Västra torget\, Lagermansgatan 1:geo:14.1553961,57.7819831
END:VEVENT
END:VCALENDAR