BEGIN:VCALENDAR
VERSION:2.0
PRODID:-//Pingst Jönköping - ECPv6.15.20//NONSGML v1.0//EN
CALSCALE:GREGORIAN
METHOD:PUBLISH
X-ORIGINAL-URL:https://pingstjonkoping.se
X-WR-CALDESC:Händelser för Pingst Jönköping
REFRESH-INTERVAL;VALUE=DURATION:PT1H
X-Robots-Tag:noindex
X-PUBLISHED-TTL:PT1H
BEGIN:VTIMEZONE
TZID:Europe/Stockholm
BEGIN:DAYLIGHT
TZOFFSETFROM:+0100
TZOFFSETTO:+0200
TZNAME:CEST
DTSTART:20240331T010000
END:DAYLIGHT
BEGIN:STANDARD
TZOFFSETFROM:+0200
TZOFFSETTO:+0100
TZNAME:CET
DTSTART:20241027T010000
END:STANDARD
BEGIN:DAYLIGHT
TZOFFSETFROM:+0100
TZOFFSETTO:+0200
TZNAME:CEST
DTSTART:20250330T010000
END:DAYLIGHT
BEGIN:STANDARD
TZOFFSETFROM:+0200
TZOFFSETTO:+0100
TZNAME:CET
DTSTART:20251026T010000
END:STANDARD
BEGIN:DAYLIGHT
TZOFFSETFROM:+0100
TZOFFSETTO:+0200
TZNAME:CEST
DTSTART:20260329T010000
END:DAYLIGHT
BEGIN:STANDARD
TZOFFSETFROM:+0200
TZOFFSETTO:+0100
TZNAME:CET
DTSTART:20261025T010000
END:STANDARD
END:VTIMEZONE
BEGIN:VEVENT
DTSTART;TZID=Europe/Stockholm:20250701T080000
DTEND;TZID=Europe/Stockholm:20250701T090000
DTSTAMP:20260424T135631
CREATED:20250630T084121Z
LAST-MODIFIED:20250630T084121Z
UID:10009808-1751356800-1751360400@pingstjonkoping.se
SUMMARY:Morgonbön
DESCRIPTION:I bönerummet (ingång via dörren till vänster om stora entrén)
URL:https://pingstjonkoping.se/kalender/morgonbon/2025-07-01/
LOCATION:Pingstkyrkan\, Jönköping\, Västra torget\, Lagermansgatan 1\, Jönköping\, Sverige
CATEGORIES:Bön
GEO:57.7819831;14.1553961
X-APPLE-STRUCTURED-LOCATION;VALUE=URI;X-ADDRESS=Pingstkyrkan Jönköping Västra torget Lagermansgatan 1 Jönköping Sverige;X-APPLE-RADIUS=500;X-TITLE=Västra torget\, Lagermansgatan 1:geo:14.1553961,57.7819831
END:VEVENT
BEGIN:VEVENT
DTSTART;TZID=Europe/Stockholm:20250701T110000
DTEND;TZID=Europe/Stockholm:20250701T120000
DTSTAMP:20260424T135631
CREATED:20240619T120439Z
LAST-MODIFIED:20250617T110145Z
UID:10009013-1751367600-1751371200@pingstjonkoping.se
SUMMARY:Bön
DESCRIPTION:
URL:https://pingstjonkoping.se/kalender/bon-7/2025-07-01/
LOCATION:Pingstkyrkan\, Jönköping\, Västra torget\, Lagermansgatan 1\, Jönköping\, Sverige
CATEGORIES:Bön
GEO:57.7819831;14.1553961
X-APPLE-STRUCTURED-LOCATION;VALUE=URI;X-ADDRESS=Pingstkyrkan Jönköping Västra torget Lagermansgatan 1 Jönköping Sverige;X-APPLE-RADIUS=500;X-TITLE=Västra torget\, Lagermansgatan 1:geo:14.1553961,57.7819831
END:VEVENT
BEGIN:VEVENT
DTSTART;TZID=Europe/Stockholm:20250702T080000
DTEND;TZID=Europe/Stockholm:20250702T090000
DTSTAMP:20260424T135631
CREATED:20250630T084121Z
LAST-MODIFIED:20250630T084121Z
UID:10009809-1751443200-1751446800@pingstjonkoping.se
SUMMARY:Morgonbön
DESCRIPTION:I bönerummet (ingång via dörren till vänster om stora entrén)
URL:https://pingstjonkoping.se/kalender/morgonbon/2025-07-02/
LOCATION:Pingstkyrkan\, Jönköping\, Västra torget\, Lagermansgatan 1\, Jönköping\, Sverige
CATEGORIES:Bön
GEO:57.7819831;14.1553961
X-APPLE-STRUCTURED-LOCATION;VALUE=URI;X-ADDRESS=Pingstkyrkan Jönköping Västra torget Lagermansgatan 1 Jönköping Sverige;X-APPLE-RADIUS=500;X-TITLE=Västra torget\, Lagermansgatan 1:geo:14.1553961,57.7819831
END:VEVENT
BEGIN:VEVENT
DTSTART;TZID=Europe/Stockholm:20250703T080000
DTEND;TZID=Europe/Stockholm:20250703T090000
DTSTAMP:20260424T135631
CREATED:20250630T084121Z
LAST-MODIFIED:20250630T084121Z
UID:10009810-1751529600-1751533200@pingstjonkoping.se
SUMMARY:Morgonbön
DESCRIPTION:I bönerummet (ingång via dörren till vänster om stora entrén)
URL:https://pingstjonkoping.se/kalender/morgonbon/2025-07-03/
LOCATION:Pingstkyrkan\, Jönköping\, Västra torget\, Lagermansgatan 1\, Jönköping\, Sverige
CATEGORIES:Bön
GEO:57.7819831;14.1553961
X-APPLE-STRUCTURED-LOCATION;VALUE=URI;X-ADDRESS=Pingstkyrkan Jönköping Västra torget Lagermansgatan 1 Jönköping Sverige;X-APPLE-RADIUS=500;X-TITLE=Västra torget\, Lagermansgatan 1:geo:14.1553961,57.7819831
END:VEVENT
BEGIN:VEVENT
DTSTART;TZID=Europe/Stockholm:20250708T080000
DTEND;TZID=Europe/Stockholm:20250708T090000
DTSTAMP:20260424T135631
CREATED:20250630T084121Z
LAST-MODIFIED:20250630T084121Z
UID:10009811-1751961600-1751965200@pingstjonkoping.se
SUMMARY:Morgonbön
DESCRIPTION:I bönerummet (ingång via dörren till vänster om stora entrén)
URL:https://pingstjonkoping.se/kalender/morgonbon/2025-07-08/
LOCATION:Pingstkyrkan\, Jönköping\, Västra torget\, Lagermansgatan 1\, Jönköping\, Sverige
CATEGORIES:Bön
GEO:57.7819831;14.1553961
X-APPLE-STRUCTURED-LOCATION;VALUE=URI;X-ADDRESS=Pingstkyrkan Jönköping Västra torget Lagermansgatan 1 Jönköping Sverige;X-APPLE-RADIUS=500;X-TITLE=Västra torget\, Lagermansgatan 1:geo:14.1553961,57.7819831
END:VEVENT
BEGIN:VEVENT
DTSTART;TZID=Europe/Stockholm:20250708T110000
DTEND;TZID=Europe/Stockholm:20250708T120000
DTSTAMP:20260424T135631
CREATED:20240619T120439Z
LAST-MODIFIED:20250617T110145Z
UID:10009014-1751972400-1751976000@pingstjonkoping.se
SUMMARY:Bön
DESCRIPTION:
URL:https://pingstjonkoping.se/kalender/bon-7/2025-07-08/
LOCATION:Pingstkyrkan\, Jönköping\, Västra torget\, Lagermansgatan 1\, Jönköping\, Sverige
CATEGORIES:Bön
GEO:57.7819831;14.1553961
X-APPLE-STRUCTURED-LOCATION;VALUE=URI;X-ADDRESS=Pingstkyrkan Jönköping Västra torget Lagermansgatan 1 Jönköping Sverige;X-APPLE-RADIUS=500;X-TITLE=Västra torget\, Lagermansgatan 1:geo:14.1553961,57.7819831
END:VEVENT
BEGIN:VEVENT
DTSTART;TZID=Europe/Stockholm:20250709T080000
DTEND;TZID=Europe/Stockholm:20250709T090000
DTSTAMP:20260424T135631
CREATED:20250630T084121Z
LAST-MODIFIED:20250630T084121Z
UID:10009812-1752048000-1752051600@pingstjonkoping.se
SUMMARY:Morgonbön
DESCRIPTION:I bönerummet (ingång via dörren till vänster om stora entrén)
URL:https://pingstjonkoping.se/kalender/morgonbon/2025-07-09/
LOCATION:Pingstkyrkan\, Jönköping\, Västra torget\, Lagermansgatan 1\, Jönköping\, Sverige
CATEGORIES:Bön
GEO:57.7819831;14.1553961
X-APPLE-STRUCTURED-LOCATION;VALUE=URI;X-ADDRESS=Pingstkyrkan Jönköping Västra torget Lagermansgatan 1 Jönköping Sverige;X-APPLE-RADIUS=500;X-TITLE=Västra torget\, Lagermansgatan 1:geo:14.1553961,57.7819831
END:VEVENT
BEGIN:VEVENT
DTSTART;TZID=Europe/Stockholm:20250710T080000
DTEND;TZID=Europe/Stockholm:20250710T090000
DTSTAMP:20260424T135631
CREATED:20250630T084121Z
LAST-MODIFIED:20250630T084121Z
UID:10009813-1752134400-1752138000@pingstjonkoping.se
SUMMARY:Morgonbön
DESCRIPTION:I bönerummet (ingång via dörren till vänster om stora entrén)
URL:https://pingstjonkoping.se/kalender/morgonbon/2025-07-10/
LOCATION:Pingstkyrkan\, Jönköping\, Västra torget\, Lagermansgatan 1\, Jönköping\, Sverige
CATEGORIES:Bön
GEO:57.7819831;14.1553961
X-APPLE-STRUCTURED-LOCATION;VALUE=URI;X-ADDRESS=Pingstkyrkan Jönköping Västra torget Lagermansgatan 1 Jönköping Sverige;X-APPLE-RADIUS=500;X-TITLE=Västra torget\, Lagermansgatan 1:geo:14.1553961,57.7819831
END:VEVENT
BEGIN:VEVENT
DTSTART;TZID=Europe/Stockholm:20250710T183000
DTEND;TZID=Europe/Stockholm:20250710T193000
DTSTAMP:20260424T135631
CREATED:20250226T155654Z
LAST-MODIFIED:20260422T144414Z
UID:10009746-1752172200-1752175800@pingstjonkoping.se
SUMMARY:Bön/ Bibelläsning
DESCRIPTION:
URL:https://pingstjonkoping.se/kalender/bon-8/2025-07-10/
LOCATION:Pingstkyrkan\, Jönköping\, Västra torget\, Lagermansgatan 1\, Jönköping\, Sverige
CATEGORIES:Bön
GEO:57.7819831;14.1553961
X-APPLE-STRUCTURED-LOCATION;VALUE=URI;X-ADDRESS=Pingstkyrkan Jönköping Västra torget Lagermansgatan 1 Jönköping Sverige;X-APPLE-RADIUS=500;X-TITLE=Västra torget\, Lagermansgatan 1:geo:14.1553961,57.7819831
END:VEVENT
BEGIN:VEVENT
DTSTART;TZID=Europe/Stockholm:20250715T080000
DTEND;TZID=Europe/Stockholm:20250715T090000
DTSTAMP:20260424T135631
CREATED:20250630T084121Z
LAST-MODIFIED:20250630T084121Z
UID:10009814-1752566400-1752570000@pingstjonkoping.se
SUMMARY:Morgonbön
DESCRIPTION:I bönerummet (ingång via dörren till vänster om stora entrén)
URL:https://pingstjonkoping.se/kalender/morgonbon/2025-07-15/
LOCATION:Pingstkyrkan\, Jönköping\, Västra torget\, Lagermansgatan 1\, Jönköping\, Sverige
CATEGORIES:Bön
GEO:57.7819831;14.1553961
X-APPLE-STRUCTURED-LOCATION;VALUE=URI;X-ADDRESS=Pingstkyrkan Jönköping Västra torget Lagermansgatan 1 Jönköping Sverige;X-APPLE-RADIUS=500;X-TITLE=Västra torget\, Lagermansgatan 1:geo:14.1553961,57.7819831
END:VEVENT
BEGIN:VEVENT
DTSTART;TZID=Europe/Stockholm:20250715T110000
DTEND;TZID=Europe/Stockholm:20250715T120000
DTSTAMP:20260424T135631
CREATED:20240619T120439Z
LAST-MODIFIED:20250617T110145Z
UID:10009015-1752577200-1752580800@pingstjonkoping.se
SUMMARY:Bön
DESCRIPTION:
URL:https://pingstjonkoping.se/kalender/bon-7/2025-07-15/
LOCATION:Pingstkyrkan\, Jönköping\, Västra torget\, Lagermansgatan 1\, Jönköping\, Sverige
CATEGORIES:Bön
GEO:57.7819831;14.1553961
X-APPLE-STRUCTURED-LOCATION;VALUE=URI;X-ADDRESS=Pingstkyrkan Jönköping Västra torget Lagermansgatan 1 Jönköping Sverige;X-APPLE-RADIUS=500;X-TITLE=Västra torget\, Lagermansgatan 1:geo:14.1553961,57.7819831
END:VEVENT
BEGIN:VEVENT
DTSTART;TZID=Europe/Stockholm:20250716T080000
DTEND;TZID=Europe/Stockholm:20250716T090000
DTSTAMP:20260424T135631
CREATED:20250630T084121Z
LAST-MODIFIED:20250630T084121Z
UID:10009815-1752652800-1752656400@pingstjonkoping.se
SUMMARY:Morgonbön
DESCRIPTION:I bönerummet (ingång via dörren till vänster om stora entrén)
URL:https://pingstjonkoping.se/kalender/morgonbon/2025-07-16/
LOCATION:Pingstkyrkan\, Jönköping\, Västra torget\, Lagermansgatan 1\, Jönköping\, Sverige
CATEGORIES:Bön
GEO:57.7819831;14.1553961
X-APPLE-STRUCTURED-LOCATION;VALUE=URI;X-ADDRESS=Pingstkyrkan Jönköping Västra torget Lagermansgatan 1 Jönköping Sverige;X-APPLE-RADIUS=500;X-TITLE=Västra torget\, Lagermansgatan 1:geo:14.1553961,57.7819831
END:VEVENT
BEGIN:VEVENT
DTSTART;TZID=Europe/Stockholm:20250717T080000
DTEND;TZID=Europe/Stockholm:20250717T090000
DTSTAMP:20260424T135631
CREATED:20250630T084121Z
LAST-MODIFIED:20250630T084121Z
UID:10009816-1752739200-1752742800@pingstjonkoping.se
SUMMARY:Morgonbön
DESCRIPTION:I bönerummet (ingång via dörren till vänster om stora entrén)
URL:https://pingstjonkoping.se/kalender/morgonbon/2025-07-17/
LOCATION:Pingstkyrkan\, Jönköping\, Västra torget\, Lagermansgatan 1\, Jönköping\, Sverige
CATEGORIES:Bön
GEO:57.7819831;14.1553961
X-APPLE-STRUCTURED-LOCATION;VALUE=URI;X-ADDRESS=Pingstkyrkan Jönköping Västra torget Lagermansgatan 1 Jönköping Sverige;X-APPLE-RADIUS=500;X-TITLE=Västra torget\, Lagermansgatan 1:geo:14.1553961,57.7819831
END:VEVENT
BEGIN:VEVENT
DTSTART;TZID=Europe/Stockholm:20250722T080000
DTEND;TZID=Europe/Stockholm:20250722T090000
DTSTAMP:20260424T135631
CREATED:20250630T084121Z
LAST-MODIFIED:20250630T084121Z
UID:10009817-1753171200-1753174800@pingstjonkoping.se
SUMMARY:Morgonbön
DESCRIPTION:I bönerummet (ingång via dörren till vänster om stora entrén)
URL:https://pingstjonkoping.se/kalender/morgonbon/2025-07-22/
LOCATION:Pingstkyrkan\, Jönköping\, Västra torget\, Lagermansgatan 1\, Jönköping\, Sverige
CATEGORIES:Bön
GEO:57.7819831;14.1553961
X-APPLE-STRUCTURED-LOCATION;VALUE=URI;X-ADDRESS=Pingstkyrkan Jönköping Västra torget Lagermansgatan 1 Jönköping Sverige;X-APPLE-RADIUS=500;X-TITLE=Västra torget\, Lagermansgatan 1:geo:14.1553961,57.7819831
END:VEVENT
BEGIN:VEVENT
DTSTART;TZID=Europe/Stockholm:20250722T110000
DTEND;TZID=Europe/Stockholm:20250722T120000
DTSTAMP:20260424T135631
CREATED:20240619T120439Z
LAST-MODIFIED:20250617T110145Z
UID:10009016-1753182000-1753185600@pingstjonkoping.se
SUMMARY:Bön
DESCRIPTION:
URL:https://pingstjonkoping.se/kalender/bon-7/2025-07-22/
LOCATION:Pingstkyrkan\, Jönköping\, Västra torget\, Lagermansgatan 1\, Jönköping\, Sverige
CATEGORIES:Bön
GEO:57.7819831;14.1553961
X-APPLE-STRUCTURED-LOCATION;VALUE=URI;X-ADDRESS=Pingstkyrkan Jönköping Västra torget Lagermansgatan 1 Jönköping Sverige;X-APPLE-RADIUS=500;X-TITLE=Västra torget\, Lagermansgatan 1:geo:14.1553961,57.7819831
END:VEVENT
BEGIN:VEVENT
DTSTART;TZID=Europe/Stockholm:20250723T080000
DTEND;TZID=Europe/Stockholm:20250723T090000
DTSTAMP:20260424T135631
CREATED:20250630T084121Z
LAST-MODIFIED:20250630T084121Z
UID:10009818-1753257600-1753261200@pingstjonkoping.se
SUMMARY:Morgonbön
DESCRIPTION:I bönerummet (ingång via dörren till vänster om stora entrén)
URL:https://pingstjonkoping.se/kalender/morgonbon/2025-07-23/
LOCATION:Pingstkyrkan\, Jönköping\, Västra torget\, Lagermansgatan 1\, Jönköping\, Sverige
CATEGORIES:Bön
GEO:57.7819831;14.1553961
X-APPLE-STRUCTURED-LOCATION;VALUE=URI;X-ADDRESS=Pingstkyrkan Jönköping Västra torget Lagermansgatan 1 Jönköping Sverige;X-APPLE-RADIUS=500;X-TITLE=Västra torget\, Lagermansgatan 1:geo:14.1553961,57.7819831
END:VEVENT
BEGIN:VEVENT
DTSTART;TZID=Europe/Stockholm:20250724T080000
DTEND;TZID=Europe/Stockholm:20250724T090000
DTSTAMP:20260424T135631
CREATED:20250630T084121Z
LAST-MODIFIED:20250630T084121Z
UID:10009819-1753344000-1753347600@pingstjonkoping.se
SUMMARY:Morgonbön
DESCRIPTION:I bönerummet (ingång via dörren till vänster om stora entrén)
URL:https://pingstjonkoping.se/kalender/morgonbon/2025-07-24/
LOCATION:Pingstkyrkan\, Jönköping\, Västra torget\, Lagermansgatan 1\, Jönköping\, Sverige
CATEGORIES:Bön
GEO:57.7819831;14.1553961
X-APPLE-STRUCTURED-LOCATION;VALUE=URI;X-ADDRESS=Pingstkyrkan Jönköping Västra torget Lagermansgatan 1 Jönköping Sverige;X-APPLE-RADIUS=500;X-TITLE=Västra torget\, Lagermansgatan 1:geo:14.1553961,57.7819831
END:VEVENT
BEGIN:VEVENT
DTSTART;TZID=Europe/Stockholm:20250724T183000
DTEND;TZID=Europe/Stockholm:20250724T193000
DTSTAMP:20260424T135631
CREATED:20250226T155654Z
LAST-MODIFIED:20260422T144414Z
UID:10009747-1753381800-1753385400@pingstjonkoping.se
SUMMARY:Bön/ Bibelläsning
DESCRIPTION:
URL:https://pingstjonkoping.se/kalender/bon-8/2025-07-24/
LOCATION:Pingstkyrkan\, Jönköping\, Västra torget\, Lagermansgatan 1\, Jönköping\, Sverige
CATEGORIES:Bön
GEO:57.7819831;14.1553961
X-APPLE-STRUCTURED-LOCATION;VALUE=URI;X-ADDRESS=Pingstkyrkan Jönköping Västra torget Lagermansgatan 1 Jönköping Sverige;X-APPLE-RADIUS=500;X-TITLE=Västra torget\, Lagermansgatan 1:geo:14.1553961,57.7819831
END:VEVENT
BEGIN:VEVENT
DTSTART;TZID=Europe/Stockholm:20250729T110000
DTEND;TZID=Europe/Stockholm:20250729T120000
DTSTAMP:20260424T135631
CREATED:20240619T120439Z
LAST-MODIFIED:20250617T110145Z
UID:10009017-1753786800-1753790400@pingstjonkoping.se
SUMMARY:Bön
DESCRIPTION:
URL:https://pingstjonkoping.se/kalender/bon-7/2025-07-29/
LOCATION:Pingstkyrkan\, Jönköping\, Västra torget\, Lagermansgatan 1\, Jönköping\, Sverige
CATEGORIES:Bön
GEO:57.7819831;14.1553961
X-APPLE-STRUCTURED-LOCATION;VALUE=URI;X-ADDRESS=Pingstkyrkan Jönköping Västra torget Lagermansgatan 1 Jönköping Sverige;X-APPLE-RADIUS=500;X-TITLE=Västra torget\, Lagermansgatan 1:geo:14.1553961,57.7819831
END:VEVENT
END:VCALENDAR